BEGIN:VCALENDAR
VERSION:2.0
PRODID:-//Dolphin Shopping Centres - ECPv6.15.20//NONSGML v1.0//EN
CALSCALE:GREGORIAN
METHOD:PUBLISH
X-WR-CALNAME:Dolphin Shopping Centres
X-ORIGINAL-URL:https://dolphinshoppingcentre.co.uk
X-WR-CALDESC:Events for Dolphin Shopping Centres
REFRESH-INTERVAL;VALUE=DURATION:PT1H
X-Robots-Tag:noindex
X-PUBLISHED-TTL:PT1H
BEGIN:VTIMEZONE
TZID:UTC
BEGIN:STANDARD
TZOFFSETFROM:+0000
TZOFFSETTO:+0000
TZNAME:UTC
DTSTART:20270101T000000
END:STANDARD
END:VTIMEZONE
BEGIN:VEVENT
DTSTART;TZID=UTC:20280430T100000
DTEND;TZID=UTC:20280430T170000
DTSTAMP:20260423T131030
CREATED:20240723T094301Z
LAST-MODIFIED:20241106T114249Z
UID:10000159-1840701600-1840726800@dolphinshoppingcentre.co.uk
SUMMARY:Sensory Sunday
DESCRIPTION:Need a calmer environment for shopping? On the last Sunday of every month\, The Dolphin and its retailers will be operating with dimmed lights and quieter music to create a better experience for shoppers who experience sensory sensitivity.
URL:https://dolphinshoppingcentre.co.uk/event/sensory-sunday/2028-04-30/
LOCATION:The Dolphin Poole\, Dolphin Centre\, Poole\, Dorset\, BH15 1SZ\, United Kingdom
CATEGORIES:SEND
ATTACH;FMTTYPE=image/webp:https://dolphinshoppingcentre.co.uk/wp-content/uploads/2024/07/DSC08048-scaled.webp
ORGANIZER;CN="The Dolphin Poole":MAILTO:carmen.davies@dolphinshoppingcentre.co.uk
END:VEVENT
BEGIN:VEVENT
DTSTART;TZID=UTC:20280528T100000
DTEND;TZID=UTC:20280528T170000
DTSTAMP:20260423T131030
CREATED:20240723T094301Z
LAST-MODIFIED:20241106T114249Z
UID:10000160-1843120800-1843146000@dolphinshoppingcentre.co.uk
SUMMARY:Sensory Sunday
DESCRIPTION:Need a calmer environment for shopping? On the last Sunday of every month\, The Dolphin and its retailers will be operating with dimmed lights and quieter music to create a better experience for shoppers who experience sensory sensitivity.
URL:https://dolphinshoppingcentre.co.uk/event/sensory-sunday/2028-05-28/
LOCATION:The Dolphin Poole\, Dolphin Centre\, Poole\, Dorset\, BH15 1SZ\, United Kingdom
CATEGORIES:SEND
ATTACH;FMTTYPE=image/webp:https://dolphinshoppingcentre.co.uk/wp-content/uploads/2024/07/DSC08048-scaled.webp
ORGANIZER;CN="The Dolphin Poole":MAILTO:carmen.davies@dolphinshoppingcentre.co.uk
END:VEVENT
BEGIN:VEVENT
DTSTART;TZID=UTC:20280625T100000
DTEND;TZID=UTC:20280625T170000
DTSTAMP:20260423T131030
CREATED:20240723T094301Z
LAST-MODIFIED:20241106T114249Z
UID:10000161-1845540000-1845565200@dolphinshoppingcentre.co.uk
SUMMARY:Sensory Sunday
DESCRIPTION:Need a calmer environment for shopping? On the last Sunday of every month\, The Dolphin and its retailers will be operating with dimmed lights and quieter music to create a better experience for shoppers who experience sensory sensitivity.
URL:https://dolphinshoppingcentre.co.uk/event/sensory-sunday/2028-06-25/
LOCATION:The Dolphin Poole\, Dolphin Centre\, Poole\, Dorset\, BH15 1SZ\, United Kingdom
CATEGORIES:SEND
ATTACH;FMTTYPE=image/webp:https://dolphinshoppingcentre.co.uk/wp-content/uploads/2024/07/DSC08048-scaled.webp
ORGANIZER;CN="The Dolphin Poole":MAILTO:carmen.davies@dolphinshoppingcentre.co.uk
END:VEVENT
BEGIN:VEVENT
DTSTART;TZID=UTC:20280730T100000
DTEND;TZID=UTC:20280730T170000
DTSTAMP:20260423T131030
CREATED:20240723T094301Z
LAST-MODIFIED:20241106T114249Z
UID:10000162-1848564000-1848589200@dolphinshoppingcentre.co.uk
SUMMARY:Sensory Sunday
DESCRIPTION:Need a calmer environment for shopping? On the last Sunday of every month\, The Dolphin and its retailers will be operating with dimmed lights and quieter music to create a better experience for shoppers who experience sensory sensitivity.
URL:https://dolphinshoppingcentre.co.uk/event/sensory-sunday/2028-07-30/
LOCATION:The Dolphin Poole\, Dolphin Centre\, Poole\, Dorset\, BH15 1SZ\, United Kingdom
CATEGORIES:SEND
ATTACH;FMTTYPE=image/webp:https://dolphinshoppingcentre.co.uk/wp-content/uploads/2024/07/DSC08048-scaled.webp
ORGANIZER;CN="The Dolphin Poole":MAILTO:carmen.davies@dolphinshoppingcentre.co.uk
END:VEVENT
BEGIN:VEVENT
DTSTART;TZID=UTC:20280827T100000
DTEND;TZID=UTC:20280827T170000
DTSTAMP:20260423T131030
CREATED:20240723T094301Z
LAST-MODIFIED:20241106T114249Z
UID:10000163-1850983200-1851008400@dolphinshoppingcentre.co.uk
SUMMARY:Sensory Sunday
DESCRIPTION:Need a calmer environment for shopping? On the last Sunday of every month\, The Dolphin and its retailers will be operating with dimmed lights and quieter music to create a better experience for shoppers who experience sensory sensitivity.
URL:https://dolphinshoppingcentre.co.uk/event/sensory-sunday/2028-08-27/
LOCATION:The Dolphin Poole\, Dolphin Centre\, Poole\, Dorset\, BH15 1SZ\, United Kingdom
CATEGORIES:SEND
ATTACH;FMTTYPE=image/webp:https://dolphinshoppingcentre.co.uk/wp-content/uploads/2024/07/DSC08048-scaled.webp
ORGANIZER;CN="The Dolphin Poole":MAILTO:carmen.davies@dolphinshoppingcentre.co.uk
END:VEVENT
BEGIN:VEVENT
DTSTART;TZID=UTC:20280924T100000
DTEND;TZID=UTC:20280924T170000
DTSTAMP:20260423T131030
CREATED:20240723T094301Z
LAST-MODIFIED:20241106T114249Z
UID:10000164-1853402400-1853427600@dolphinshoppingcentre.co.uk
SUMMARY:Sensory Sunday
DESCRIPTION:Need a calmer environment for shopping? On the last Sunday of every month\, The Dolphin and its retailers will be operating with dimmed lights and quieter music to create a better experience for shoppers who experience sensory sensitivity.
URL:https://dolphinshoppingcentre.co.uk/event/sensory-sunday/2028-09-24/
LOCATION:The Dolphin Poole\, Dolphin Centre\, Poole\, Dorset\, BH15 1SZ\, United Kingdom
CATEGORIES:SEND
ATTACH;FMTTYPE=image/webp:https://dolphinshoppingcentre.co.uk/wp-content/uploads/2024/07/DSC08048-scaled.webp
ORGANIZER;CN="The Dolphin Poole":MAILTO:carmen.davies@dolphinshoppingcentre.co.uk
END:VEVENT
BEGIN:VEVENT
DTSTART;TZID=UTC:20281029T100000
DTEND;TZID=UTC:20281029T170000
DTSTAMP:20260423T131030
CREATED:20240723T094301Z
LAST-MODIFIED:20241106T114249Z
UID:10000165-1856426400-1856451600@dolphinshoppingcentre.co.uk
SUMMARY:Sensory Sunday
DESCRIPTION:Need a calmer environment for shopping? On the last Sunday of every month\, The Dolphin and its retailers will be operating with dimmed lights and quieter music to create a better experience for shoppers who experience sensory sensitivity.
URL:https://dolphinshoppingcentre.co.uk/event/sensory-sunday/2028-10-29/
LOCATION:The Dolphin Poole\, Dolphin Centre\, Poole\, Dorset\, BH15 1SZ\, United Kingdom
CATEGORIES:SEND
ATTACH;FMTTYPE=image/webp:https://dolphinshoppingcentre.co.uk/wp-content/uploads/2024/07/DSC08048-scaled.webp
ORGANIZER;CN="The Dolphin Poole":MAILTO:carmen.davies@dolphinshoppingcentre.co.uk
END:VEVENT
BEGIN:VEVENT
DTSTART;TZID=UTC:20281126T100000
DTEND;TZID=UTC:20281126T170000
DTSTAMP:20260423T131030
CREATED:20240723T094301Z
LAST-MODIFIED:20241106T114249Z
UID:10000166-1858845600-1858870800@dolphinshoppingcentre.co.uk
SUMMARY:Sensory Sunday
DESCRIPTION:Need a calmer environment for shopping? On the last Sunday of every month\, The Dolphin and its retailers will be operating with dimmed lights and quieter music to create a better experience for shoppers who experience sensory sensitivity.
URL:https://dolphinshoppingcentre.co.uk/event/sensory-sunday/2028-11-26/
LOCATION:The Dolphin Poole\, Dolphin Centre\, Poole\, Dorset\, BH15 1SZ\, United Kingdom
CATEGORIES:SEND
ATTACH;FMTTYPE=image/webp:https://dolphinshoppingcentre.co.uk/wp-content/uploads/2024/07/DSC08048-scaled.webp
ORGANIZER;CN="The Dolphin Poole":MAILTO:carmen.davies@dolphinshoppingcentre.co.uk
END:VEVENT
BEGIN:VEVENT
DTSTART;TZID=UTC:20281231T100000
DTEND;TZID=UTC:20281231T170000
DTSTAMP:20260423T131030
CREATED:20240723T094301Z
LAST-MODIFIED:20241106T114249Z
UID:10000167-1861869600-1861894800@dolphinshoppingcentre.co.uk
SUMMARY:Sensory Sunday
DESCRIPTION:Need a calmer environment for shopping? On the last Sunday of every month\, The Dolphin and its retailers will be operating with dimmed lights and quieter music to create a better experience for shoppers who experience sensory sensitivity.
URL:https://dolphinshoppingcentre.co.uk/event/sensory-sunday/2028-12-31/
LOCATION:The Dolphin Poole\, Dolphin Centre\, Poole\, Dorset\, BH15 1SZ\, United Kingdom
CATEGORIES:SEND
ATTACH;FMTTYPE=image/webp:https://dolphinshoppingcentre.co.uk/wp-content/uploads/2024/07/DSC08048-scaled.webp
ORGANIZER;CN="The Dolphin Poole":MAILTO:carmen.davies@dolphinshoppingcentre.co.uk
END:VEVENT
BEGIN:VEVENT
DTSTART;TZID=UTC:20290128T100000
DTEND;TZID=UTC:20290128T170000
DTSTAMP:20260423T131030
CREATED:20240723T094301Z
LAST-MODIFIED:20241106T114249Z
UID:10000168-1864288800-1864314000@dolphinshoppingcentre.co.uk
SUMMARY:Sensory Sunday
DESCRIPTION:Need a calmer environment for shopping? On the last Sunday of every month\, The Dolphin and its retailers will be operating with dimmed lights and quieter music to create a better experience for shoppers who experience sensory sensitivity.
URL:https://dolphinshoppingcentre.co.uk/event/sensory-sunday/2029-01-28/
LOCATION:The Dolphin Poole\, Dolphin Centre\, Poole\, Dorset\, BH15 1SZ\, United Kingdom
CATEGORIES:SEND
ATTACH;FMTTYPE=image/webp:https://dolphinshoppingcentre.co.uk/wp-content/uploads/2024/07/DSC08048-scaled.webp
ORGANIZER;CN="The Dolphin Poole":MAILTO:carmen.davies@dolphinshoppingcentre.co.uk
END:VEVENT
BEGIN:VEVENT
DTSTART;TZID=UTC:20290225T100000
DTEND;TZID=UTC:20290225T170000
DTSTAMP:20260423T131030
CREATED:20240723T094301Z
LAST-MODIFIED:20241106T114249Z
UID:10000169-1866708000-1866733200@dolphinshoppingcentre.co.uk
SUMMARY:Sensory Sunday
DESCRIPTION:Need a calmer environment for shopping? On the last Sunday of every month\, The Dolphin and its retailers will be operating with dimmed lights and quieter music to create a better experience for shoppers who experience sensory sensitivity.
URL:https://dolphinshoppingcentre.co.uk/event/sensory-sunday/2029-02-25/
LOCATION:The Dolphin Poole\, Dolphin Centre\, Poole\, Dorset\, BH15 1SZ\, United Kingdom
CATEGORIES:SEND
ATTACH;FMTTYPE=image/webp:https://dolphinshoppingcentre.co.uk/wp-content/uploads/2024/07/DSC08048-scaled.webp
ORGANIZER;CN="The Dolphin Poole":MAILTO:carmen.davies@dolphinshoppingcentre.co.uk
END:VEVENT
BEGIN:VEVENT
DTSTART;TZID=UTC:20290325T100000
DTEND;TZID=UTC:20290325T170000
DTSTAMP:20260423T131030
CREATED:20240723T094301Z
LAST-MODIFIED:20241106T114249Z
UID:10000170-1869127200-1869152400@dolphinshoppingcentre.co.uk
SUMMARY:Sensory Sunday
DESCRIPTION:Need a calmer environment for shopping? On the last Sunday of every month\, The Dolphin and its retailers will be operating with dimmed lights and quieter music to create a better experience for shoppers who experience sensory sensitivity.
URL:https://dolphinshoppingcentre.co.uk/event/sensory-sunday/2029-03-25/
LOCATION:The Dolphin Poole\, Dolphin Centre\, Poole\, Dorset\, BH15 1SZ\, United Kingdom
CATEGORIES:SEND
ATTACH;FMTTYPE=image/webp:https://dolphinshoppingcentre.co.uk/wp-content/uploads/2024/07/DSC08048-scaled.webp
ORGANIZER;CN="The Dolphin Poole":MAILTO:carmen.davies@dolphinshoppingcentre.co.uk
END:VEVENT
BEGIN:VEVENT
DTSTART;TZID=UTC:20290429T100000
DTEND;TZID=UTC:20290429T170000
DTSTAMP:20260423T131030
CREATED:20240723T094301Z
LAST-MODIFIED:20241106T114249Z
UID:10000171-1872151200-1872176400@dolphinshoppingcentre.co.uk
SUMMARY:Sensory Sunday
DESCRIPTION:Need a calmer environment for shopping? On the last Sunday of every month\, The Dolphin and its retailers will be operating with dimmed lights and quieter music to create a better experience for shoppers who experience sensory sensitivity.
URL:https://dolphinshoppingcentre.co.uk/event/sensory-sunday/2029-04-29/
LOCATION:The Dolphin Poole\, Dolphin Centre\, Poole\, Dorset\, BH15 1SZ\, United Kingdom
CATEGORIES:SEND
ATTACH;FMTTYPE=image/webp:https://dolphinshoppingcentre.co.uk/wp-content/uploads/2024/07/DSC08048-scaled.webp
ORGANIZER;CN="The Dolphin Poole":MAILTO:carmen.davies@dolphinshoppingcentre.co.uk
END:VEVENT
BEGIN:VEVENT
DTSTART;TZID=UTC:20290527T100000
DTEND;TZID=UTC:20290527T170000
DTSTAMP:20260423T131030
CREATED:20240723T094301Z
LAST-MODIFIED:20241106T114249Z
UID:10000172-1874570400-1874595600@dolphinshoppingcentre.co.uk
SUMMARY:Sensory Sunday
DESCRIPTION:Need a calmer environment for shopping? On the last Sunday of every month\, The Dolphin and its retailers will be operating with dimmed lights and quieter music to create a better experience for shoppers who experience sensory sensitivity.
URL:https://dolphinshoppingcentre.co.uk/event/sensory-sunday/2029-05-27/
LOCATION:The Dolphin Poole\, Dolphin Centre\, Poole\, Dorset\, BH15 1SZ\, United Kingdom
CATEGORIES:SEND
ATTACH;FMTTYPE=image/webp:https://dolphinshoppingcentre.co.uk/wp-content/uploads/2024/07/DSC08048-scaled.webp
ORGANIZER;CN="The Dolphin Poole":MAILTO:carmen.davies@dolphinshoppingcentre.co.uk
END:VEVENT
BEGIN:VEVENT
DTSTART;TZID=UTC:20290624T100000
DTEND;TZID=UTC:20290624T170000
DTSTAMP:20260423T131030
CREATED:20240723T094301Z
LAST-MODIFIED:20241106T114249Z
UID:10000173-1876989600-1877014800@dolphinshoppingcentre.co.uk
SUMMARY:Sensory Sunday
DESCRIPTION:Need a calmer environment for shopping? On the last Sunday of every month\, The Dolphin and its retailers will be operating with dimmed lights and quieter music to create a better experience for shoppers who experience sensory sensitivity.
URL:https://dolphinshoppingcentre.co.uk/event/sensory-sunday/2029-06-24/
LOCATION:The Dolphin Poole\, Dolphin Centre\, Poole\, Dorset\, BH15 1SZ\, United Kingdom
CATEGORIES:SEND
ATTACH;FMTTYPE=image/webp:https://dolphinshoppingcentre.co.uk/wp-content/uploads/2024/07/DSC08048-scaled.webp
ORGANIZER;CN="The Dolphin Poole":MAILTO:carmen.davies@dolphinshoppingcentre.co.uk
END:VEVENT
BEGIN:VEVENT
DTSTART;TZID=UTC:20290729T100000
DTEND;TZID=UTC:20290729T170000
DTSTAMP:20260423T131030
CREATED:20240723T094301Z
LAST-MODIFIED:20241106T114249Z
UID:10002699-1880013600-1880038800@dolphinshoppingcentre.co.uk
SUMMARY:Sensory Sunday
DESCRIPTION:Need a calmer environment for shopping? On the last Sunday of every month\, The Dolphin and its retailers will be operating with dimmed lights and quieter music to create a better experience for shoppers who experience sensory sensitivity.
URL:https://dolphinshoppingcentre.co.uk/event/sensory-sunday/2029-07-29/
LOCATION:The Dolphin Poole\, Dolphin Centre\, Poole\, Dorset\, BH15 1SZ\, United Kingdom
CATEGORIES:SEND
ATTACH;FMTTYPE=image/webp:https://dolphinshoppingcentre.co.uk/wp-content/uploads/2024/07/DSC08048-scaled.webp
ORGANIZER;CN="The Dolphin Poole":MAILTO:carmen.davies@dolphinshoppingcentre.co.uk
END:VEVENT
BEGIN:VEVENT
DTSTART;TZID=UTC:20290826T100000
DTEND;TZID=UTC:20290826T170000
DTSTAMP:20260423T131030
CREATED:20240723T094301Z
LAST-MODIFIED:20241106T114249Z
UID:10002700-1882432800-1882458000@dolphinshoppingcentre.co.uk
SUMMARY:Sensory Sunday
DESCRIPTION:Need a calmer environment for shopping? On the last Sunday of every month\, The Dolphin and its retailers will be operating with dimmed lights and quieter music to create a better experience for shoppers who experience sensory sensitivity.
URL:https://dolphinshoppingcentre.co.uk/event/sensory-sunday/2029-08-26/
LOCATION:The Dolphin Poole\, Dolphin Centre\, Poole\, Dorset\, BH15 1SZ\, United Kingdom
CATEGORIES:SEND
ATTACH;FMTTYPE=image/webp:https://dolphinshoppingcentre.co.uk/wp-content/uploads/2024/07/DSC08048-scaled.webp
ORGANIZER;CN="The Dolphin Poole":MAILTO:carmen.davies@dolphinshoppingcentre.co.uk
END:VEVENT
BEGIN:VEVENT
DTSTART;TZID=UTC:20290930T100000
DTEND;TZID=UTC:20290930T170000
DTSTAMP:20260423T131030
CREATED:20240723T094301Z
LAST-MODIFIED:20241106T114249Z
UID:10002701-1885456800-1885482000@dolphinshoppingcentre.co.uk
SUMMARY:Sensory Sunday
DESCRIPTION:Need a calmer environment for shopping? On the last Sunday of every month\, The Dolphin and its retailers will be operating with dimmed lights and quieter music to create a better experience for shoppers who experience sensory sensitivity.
URL:https://dolphinshoppingcentre.co.uk/event/sensory-sunday/2029-09-30/
LOCATION:The Dolphin Poole\, Dolphin Centre\, Poole\, Dorset\, BH15 1SZ\, United Kingdom
CATEGORIES:SEND
ATTACH;FMTTYPE=image/webp:https://dolphinshoppingcentre.co.uk/wp-content/uploads/2024/07/DSC08048-scaled.webp
ORGANIZER;CN="The Dolphin Poole":MAILTO:carmen.davies@dolphinshoppingcentre.co.uk
END:VEVENT
BEGIN:VEVENT
DTSTART;TZID=UTC:20291028T100000
DTEND;TZID=UTC:20291028T170000
DTSTAMP:20260423T131030
CREATED:20240723T094301Z
LAST-MODIFIED:20241106T114249Z
UID:10002702-1887876000-1887901200@dolphinshoppingcentre.co.uk
SUMMARY:Sensory Sunday
DESCRIPTION:Need a calmer environment for shopping? On the last Sunday of every month\, The Dolphin and its retailers will be operating with dimmed lights and quieter music to create a better experience for shoppers who experience sensory sensitivity.
URL:https://dolphinshoppingcentre.co.uk/event/sensory-sunday/2029-10-28/
LOCATION:The Dolphin Poole\, Dolphin Centre\, Poole\, Dorset\, BH15 1SZ\, United Kingdom
CATEGORIES:SEND
ATTACH;FMTTYPE=image/webp:https://dolphinshoppingcentre.co.uk/wp-content/uploads/2024/07/DSC08048-scaled.webp
ORGANIZER;CN="The Dolphin Poole":MAILTO:carmen.davies@dolphinshoppingcentre.co.uk
END:VEVENT
END:VCALENDAR