BEGIN:VCALENDAR
VERSION:2.0
PRODID:-//Dolphin Shopping Centres - ECPv6.15.20//NONSGML v1.0//EN
CALSCALE:GREGORIAN
METHOD:PUBLISH
X-WR-CALNAME:Dolphin Shopping Centres
X-ORIGINAL-URL:https://dolphinshoppingcentre.co.uk
X-WR-CALDESC:Events for Dolphin Shopping Centres
REFRESH-INTERVAL;VALUE=DURATION:PT1H
X-Robots-Tag:noindex
X-PUBLISHED-TTL:PT1H
BEGIN:VTIMEZONE
TZID:UTC
BEGIN:STANDARD
TZOFFSETFROM:+0000
TZOFFSETTO:+0000
TZNAME:UTC
DTSTART:20230101T000000
END:STANDARD
END:VTIMEZONE
BEGIN:VEVENT
DTSTART;TZID=UTC:20240716T100000
DTEND;TZID=UTC:20240716T160000
DTSTAMP:20260423T031618
CREATED:20240715T143325Z
LAST-MODIFIED:20240716T102123Z
UID:10000003-1721124000-1721145600@dolphinshoppingcentre.co.uk
SUMMARY:Tuesday Arts & Crafts Drop-In
DESCRIPTION:Whether you knit\, sew\, make cards\, scrapbook or draw\, bring along what you’re working on and enjoy the company other creative people. Come for the whole day or part of it.\n\nSuggested donation of £1.00 to attend.
URL:https://dolphinshoppingcentre.co.uk/event/tuesday-arts-crafts-drop-in/2024-07-16/
LOCATION:GATHER\, Ground Floor\, The Dolphin\, Poole\, Dorset\, BH15 1SZ\, United Kingdom
CATEGORIES:GATHER
END:VEVENT
BEGIN:VEVENT
DTSTART;TZID=UTC:20240525T110000
DTEND;TZID=UTC:20240525T150000
DTSTAMP:20260423T031618
CREATED:20240521T163643Z
LAST-MODIFIED:20240628T102839Z
UID:10000001-1716634800-1716649200@dolphinshoppingcentre.co.uk
SUMMARY:LEGO Walk Fundraiser for Diverse Abilities
DESCRIPTION:We’ve all stepped on a LEGO brick by accident\, but how about doing it purposefully\, to raise funds for Diverse Abilities? \n‘Build’ up the courage and get involved in the ultimate test of endurance\, taking on the challenge one brick at a time. \nGreat for adults and children\, join us on Saturday 25th May in Gather for the ultimate challenge! \nHow does it work?\nGet started on your fundraising by joining Diverse Abilities JustGiving campaign.\nYou’ll receive a fundraising pack when you sign up with all the handy hints you need to get started and share your achievements with your donors.
URL:https://dolphinshoppingcentre.co.uk/event/lego-walk-fundraiser-for-diverse-abilities/
LOCATION:GATHER\, Ground Floor\, The Dolphin\, Poole\, Dorset\, BH15 1SZ\, United Kingdom
CATEGORIES:Charity Events,GATHER
ATTACH;FMTTYPE=image/webp:https://dolphinshoppingcentre.co.uk/wp-content/uploads/2024/05/The-Dolphin-Sensory-Sunday-1.webp
END:VEVENT
END:VCALENDAR