BEGIN:VCALENDAR
VERSION:2.0
PRODID:-//Dolphin Shopping Centres - ECPv6.15.20//NONSGML v1.0//EN
CALSCALE:GREGORIAN
METHOD:PUBLISH
X-ORIGINAL-URL:https://dolphinshoppingcentre.co.uk
X-WR-CALDESC:Events for Dolphin Shopping Centres
REFRESH-INTERVAL;VALUE=DURATION:PT1H
X-Robots-Tag:noindex
X-PUBLISHED-TTL:PT1H
BEGIN:VTIMEZONE
TZID:UTC
BEGIN:STANDARD
TZOFFSETFROM:+0000
TZOFFSETTO:+0000
TZNAME:UTC
DTSTART:20230101T000000
END:STANDARD
END:VTIMEZONE
BEGIN:VEVENT
DTSTART;TZID=UTC:20241023T100000
DTEND;TZID=UTC:20241023T150000
DTSTAMP:20260422T182407
CREATED:20240917T112326Z
LAST-MODIFIED:20240917T112326Z
UID:10006488-1729677600-1729695600@dolphinshoppingcentre.co.uk
SUMMARY:Poole Waste Not Want Not Community Pop-Up
DESCRIPTION:Learn more about accessing community resources and support services in Poole. If you’re worried about the months ahead\, come along to GATHER to receive free support and advice. \n  \nEnjoy complimentary refreshments and children’s activities too!
URL:https://dolphinshoppingcentre.co.uk/event/poole-waste-not-want-not-community-pop-up/2024-10-23/
LOCATION:GATHER\, Ground Floor\, The Dolphin\, Poole\, Dorset\, BH15 1SZ\, United Kingdom
CATEGORIES:GATHER,Local Resources & Information
END:VEVENT
BEGIN:VEVENT
DTSTART;TZID=UTC:20241022T100000
DTEND;TZID=UTC:20241022T150000
DTSTAMP:20260422T182407
CREATED:20240917T112326Z
LAST-MODIFIED:20240917T112326Z
UID:10006487-1729591200-1729609200@dolphinshoppingcentre.co.uk
SUMMARY:Poole Waste Not Want Not Community Pop-Up
DESCRIPTION:Learn more about accessing community resources and support services in Poole. If you’re worried about the months ahead\, come along to GATHER to receive free support and advice. \n  \nEnjoy complimentary refreshments and children’s activities too!
URL:https://dolphinshoppingcentre.co.uk/event/poole-waste-not-want-not-community-pop-up/2024-10-22/
LOCATION:GATHER\, Ground Floor\, The Dolphin\, Poole\, Dorset\, BH15 1SZ\, United Kingdom
CATEGORIES:GATHER,Local Resources & Information
END:VEVENT
BEGIN:VEVENT
DTSTART;TZID=UTC:20241021T100000
DTEND;TZID=UTC:20241021T150000
DTSTAMP:20260422T182407
CREATED:20240917T112326Z
LAST-MODIFIED:20240917T112326Z
UID:10006486-1729504800-1729522800@dolphinshoppingcentre.co.uk
SUMMARY:Poole Waste Not Want Not Community Pop-Up
DESCRIPTION:Learn more about accessing community resources and support services in Poole. If you’re worried about the months ahead\, come along to GATHER to receive free support and advice. \n  \nEnjoy complimentary refreshments and children’s activities too!
URL:https://dolphinshoppingcentre.co.uk/event/poole-waste-not-want-not-community-pop-up/2024-10-21/
LOCATION:GATHER\, Ground Floor\, The Dolphin\, Poole\, Dorset\, BH15 1SZ\, United Kingdom
CATEGORIES:GATHER,Local Resources & Information
END:VEVENT
BEGIN:VEVENT
DTSTART;TZID=UTC:20241020T100000
DTEND;TZID=UTC:20241020T160000
DTSTAMP:20260422T182407
CREATED:20240917T110824Z
LAST-MODIFIED:20240917T110824Z
UID:10006485-1729418400-1729440000@dolphinshoppingcentre.co.uk
SUMMARY:Aspiring Artists: Art Exhibition
DESCRIPTION:Explore the recent work of local schoolchildren\, as inspired by their surroundings. Poole & East Dorset Art Society will also be running free workshops and demonstrations for visitors to join in with!
URL:https://dolphinshoppingcentre.co.uk/event/aspiring-artists-art-exhibition/2024-10-20/
LOCATION:GATHER\, Ground Floor\, The Dolphin\, Poole\, Dorset\, BH15 1SZ\, United Kingdom
CATEGORIES:GATHER,Markets & Exhibitions
END:VEVENT
BEGIN:VEVENT
DTSTART;TZID=UTC:20241019T100000
DTEND;TZID=UTC:20241019T160000
DTSTAMP:20260422T182407
CREATED:20240917T110824Z
LAST-MODIFIED:20240917T110824Z
UID:10006484-1729332000-1729353600@dolphinshoppingcentre.co.uk
SUMMARY:Aspiring Artists: Art Exhibition
DESCRIPTION:Explore the recent work of local schoolchildren\, as inspired by their surroundings. Poole & East Dorset Art Society will also be running free workshops and demonstrations for visitors to join in with!
URL:https://dolphinshoppingcentre.co.uk/event/aspiring-artists-art-exhibition/2024-10-19/
LOCATION:GATHER\, Ground Floor\, The Dolphin\, Poole\, Dorset\, BH15 1SZ\, United Kingdom
CATEGORIES:GATHER,Markets & Exhibitions
END:VEVENT
BEGIN:VEVENT
DTSTART;TZID=UTC:20241018T100000
DTEND;TZID=UTC:20241018T160000
DTSTAMP:20260422T182407
CREATED:20240917T110824Z
LAST-MODIFIED:20240917T110824Z
UID:10006483-1729245600-1729267200@dolphinshoppingcentre.co.uk
SUMMARY:Aspiring Artists: Art Exhibition
DESCRIPTION:Explore the recent work of local schoolchildren\, as inspired by their surroundings. Poole & East Dorset Art Society will also be running free workshops and demonstrations for visitors to join in with!
URL:https://dolphinshoppingcentre.co.uk/event/aspiring-artists-art-exhibition/2024-10-18/
LOCATION:GATHER\, Ground Floor\, The Dolphin\, Poole\, Dorset\, BH15 1SZ\, United Kingdom
CATEGORIES:GATHER,Markets & Exhibitions
END:VEVENT
BEGIN:VEVENT
DTSTART;TZID=UTC:20241017T100000
DTEND;TZID=UTC:20241017T160000
DTSTAMP:20260422T182407
CREATED:20240917T110824Z
LAST-MODIFIED:20240917T110824Z
UID:10006482-1729159200-1729180800@dolphinshoppingcentre.co.uk
SUMMARY:Aspiring Artists: Art Exhibition
DESCRIPTION:Explore the recent work of local schoolchildren\, as inspired by their surroundings. Poole & East Dorset Art Society will also be running free workshops and demonstrations for visitors to join in with!
URL:https://dolphinshoppingcentre.co.uk/event/aspiring-artists-art-exhibition/2024-10-17/
LOCATION:GATHER\, Ground Floor\, The Dolphin\, Poole\, Dorset\, BH15 1SZ\, United Kingdom
CATEGORIES:GATHER,Markets & Exhibitions
END:VEVENT
BEGIN:VEVENT
DTSTART;TZID=UTC:20241016T100000
DTEND;TZID=UTC:20241016T160000
DTSTAMP:20260422T182407
CREATED:20240917T104946Z
LAST-MODIFIED:20240917T104946Z
UID:10006481-1729072800-1729094400@dolphinshoppingcentre.co.uk
SUMMARY:Restart A Heart with South Western Ambulance Service
DESCRIPTION:Learn life-saving CPR and defibrillation with this free training session from South Western Ambulance Service. \nNo booking required\, just turn up!
URL:https://dolphinshoppingcentre.co.uk/event/restart-a-heart-with-south-western-ambulance-service/
LOCATION:GATHER\, Ground Floor\, The Dolphin\, Poole\, Dorset\, BH15 1SZ\, United Kingdom
CATEGORIES:GATHER,Local Resources & Information,Workshop
END:VEVENT
BEGIN:VEVENT
DTSTART;TZID=UTC:20241015T100000
DTEND;TZID=UTC:20241015T160000
DTSTAMP:20260422T182407
CREATED:20240917T104021Z
LAST-MODIFIED:20250212T163736Z
UID:10006480-1728986400-1729008000@dolphinshoppingcentre.co.uk
SUMMARY:Tuesday Arts & Crafts Drop-In
DESCRIPTION:Whether you knit\, sew\, make cards\, scrapbook or draw\, bring along what you’re working on and enjoy the company other creative people. Come for the whole day or part of it.\n\nSuggested donation of £1.00 to attend.
URL:https://dolphinshoppingcentre.co.uk/event/tuesday-arts-crafts-drop-in-4-2/
LOCATION:GATHER\, Ground Floor\, The Dolphin\, Poole\, Dorset\, BH15 1SZ\, United Kingdom
CATEGORIES:Clubs & Groups,GATHER
ATTACH;FMTTYPE=image/webp:https://dolphinshoppingcentre.co.uk/wp-content/uploads/2024/09/IMG_0094.webp
END:VEVENT
BEGIN:VEVENT
DTSTART;TZID=UTC:20241013T100000
DTEND;TZID=UTC:20241013T160000
DTSTAMP:20260422T182407
CREATED:20240917T103504Z
LAST-MODIFIED:20240917T103504Z
UID:10006479-1728813600-1728835200@dolphinshoppingcentre.co.uk
SUMMARY:Parkstone Camera Club Exhibition
DESCRIPTION:Explore the recent work of local photographers from Parkstone Camera Club. Prints and PDIs will be available for purchase\, plus the opportunity to try your hand at the interactive workshop!
URL:https://dolphinshoppingcentre.co.uk/event/parkstone-camera-club-exhibition/2024-10-13/
LOCATION:GATHER\, Ground Floor\, The Dolphin\, Poole\, Dorset\, BH15 1SZ\, United Kingdom
CATEGORIES:GATHER,Markets & Exhibitions
END:VEVENT
BEGIN:VEVENT
DTSTART;TZID=UTC:20241012T100000
DTEND;TZID=UTC:20241012T160000
DTSTAMP:20260422T182407
CREATED:20240917T103504Z
LAST-MODIFIED:20240917T103504Z
UID:10006478-1728727200-1728748800@dolphinshoppingcentre.co.uk
SUMMARY:Parkstone Camera Club Exhibition
DESCRIPTION:Explore the recent work of local photographers from Parkstone Camera Club. Prints and PDIs will be available for purchase\, plus the opportunity to try your hand at the interactive workshop!
URL:https://dolphinshoppingcentre.co.uk/event/parkstone-camera-club-exhibition/2024-10-12/
LOCATION:GATHER\, Ground Floor\, The Dolphin\, Poole\, Dorset\, BH15 1SZ\, United Kingdom
CATEGORIES:GATHER,Markets & Exhibitions
END:VEVENT
BEGIN:VEVENT
DTSTART;TZID=UTC:20241011T100000
DTEND;TZID=UTC:20241011T160000
DTSTAMP:20260422T182407
CREATED:20240917T103504Z
LAST-MODIFIED:20240917T103504Z
UID:10006477-1728640800-1728662400@dolphinshoppingcentre.co.uk
SUMMARY:Parkstone Camera Club Exhibition
DESCRIPTION:Explore the recent work of local photographers from Parkstone Camera Club. Prints and PDIs will be available for purchase\, plus the opportunity to try your hand at the interactive workshop!
URL:https://dolphinshoppingcentre.co.uk/event/parkstone-camera-club-exhibition/2024-10-11/
LOCATION:GATHER\, Ground Floor\, The Dolphin\, Poole\, Dorset\, BH15 1SZ\, United Kingdom
CATEGORIES:GATHER,Markets & Exhibitions
END:VEVENT
BEGIN:VEVENT
DTSTART;TZID=UTC:20241010T100000
DTEND;TZID=UTC:20241010T160000
DTSTAMP:20260422T182407
CREATED:20240917T103504Z
LAST-MODIFIED:20240917T103504Z
UID:10006476-1728554400-1728576000@dolphinshoppingcentre.co.uk
SUMMARY:Parkstone Camera Club Exhibition
DESCRIPTION:Explore the recent work of local photographers from Parkstone Camera Club. Prints and PDIs will be available for purchase\, plus the opportunity to try your hand at the interactive workshop!
URL:https://dolphinshoppingcentre.co.uk/event/parkstone-camera-club-exhibition/2024-10-10/
LOCATION:GATHER\, Ground Floor\, The Dolphin\, Poole\, Dorset\, BH15 1SZ\, United Kingdom
CATEGORIES:GATHER,Markets & Exhibitions
END:VEVENT
BEGIN:VEVENT
DTSTART;TZID=UTC:20241009T100000
DTEND;TZID=UTC:20241009T160000
DTSTAMP:20260422T182407
CREATED:20240917T103504Z
LAST-MODIFIED:20240917T103504Z
UID:10006475-1728468000-1728489600@dolphinshoppingcentre.co.uk
SUMMARY:Parkstone Camera Club Exhibition
DESCRIPTION:Explore the recent work of local photographers from Parkstone Camera Club. Prints and PDIs will be available for purchase\, plus the opportunity to try your hand at the interactive workshop!
URL:https://dolphinshoppingcentre.co.uk/event/parkstone-camera-club-exhibition/2024-10-09/
LOCATION:GATHER\, Ground Floor\, The Dolphin\, Poole\, Dorset\, BH15 1SZ\, United Kingdom
CATEGORIES:GATHER,Markets & Exhibitions
END:VEVENT
BEGIN:VEVENT
DTSTART;TZID=UTC:20241008T100000
DTEND;TZID=UTC:20241008T160000
DTSTAMP:20260422T182407
CREATED:20240917T103504Z
LAST-MODIFIED:20240917T103504Z
UID:10006474-1728381600-1728403200@dolphinshoppingcentre.co.uk
SUMMARY:Parkstone Camera Club Exhibition
DESCRIPTION:Explore the recent work of local photographers from Parkstone Camera Club. Prints and PDIs will be available for purchase\, plus the opportunity to try your hand at the interactive workshop!
URL:https://dolphinshoppingcentre.co.uk/event/parkstone-camera-club-exhibition/2024-10-08/
LOCATION:GATHER\, Ground Floor\, The Dolphin\, Poole\, Dorset\, BH15 1SZ\, United Kingdom
CATEGORIES:GATHER,Markets & Exhibitions
END:VEVENT
BEGIN:VEVENT
DTSTART;TZID=UTC:20241007T100000
DTEND;TZID=UTC:20241007T160000
DTSTAMP:20260422T182407
CREATED:20240917T103504Z
LAST-MODIFIED:20240917T103504Z
UID:10006473-1728295200-1728316800@dolphinshoppingcentre.co.uk
SUMMARY:Parkstone Camera Club Exhibition
DESCRIPTION:Explore the recent work of local photographers from Parkstone Camera Club. Prints and PDIs will be available for purchase\, plus the opportunity to try your hand at the interactive workshop!
URL:https://dolphinshoppingcentre.co.uk/event/parkstone-camera-club-exhibition/2024-10-07/
LOCATION:GATHER\, Ground Floor\, The Dolphin\, Poole\, Dorset\, BH15 1SZ\, United Kingdom
CATEGORIES:GATHER,Markets & Exhibitions
END:VEVENT
BEGIN:VEVENT
DTSTART;TZID=UTC:20241006T100000
DTEND;TZID=UTC:20241006T160000
DTSTAMP:20260422T182407
CREATED:20240917T103504Z
LAST-MODIFIED:20240917T103504Z
UID:10006472-1728208800-1728230400@dolphinshoppingcentre.co.uk
SUMMARY:Parkstone Camera Club Exhibition
DESCRIPTION:Explore the recent work of local photographers from Parkstone Camera Club. Prints and PDIs will be available for purchase\, plus the opportunity to try your hand at the interactive workshop!
URL:https://dolphinshoppingcentre.co.uk/event/parkstone-camera-club-exhibition/2024-10-06/
LOCATION:GATHER\, Ground Floor\, The Dolphin\, Poole\, Dorset\, BH15 1SZ\, United Kingdom
CATEGORIES:GATHER,Markets & Exhibitions
END:VEVENT
BEGIN:VEVENT
DTSTART;TZID=UTC:20241005T100000
DTEND;TZID=UTC:20241005T170000
DTSTAMP:20260422T182407
CREATED:20240930T153916Z
LAST-MODIFIED:20240930T153916Z
UID:10006770-1728122400-1728147600@dolphinshoppingcentre.co.uk
SUMMARY:Jumble Sale in aid of Branksome & Rossmore Community Fridges
DESCRIPTION:Join us for a good rummage at this weekend’s jumble sale! All proceeds will support Branksome & Rossmore Community Fridge. \nFeel free to have a sort out at home and bring in any donations you may have as early as possible after 9.00am.
URL:https://dolphinshoppingcentre.co.uk/event/jumble-sale-in-aid-of-branksome-rossmore-community-fridges/
LOCATION:GATHER\, Ground Floor\, The Dolphin\, Poole\, Dorset\, BH15 1SZ\, United Kingdom
CATEGORIES:Charity Events,GATHER,Markets & Exhibitions
END:VEVENT
BEGIN:VEVENT
DTSTART;TZID=UTC:20241002T100000
DTEND;TZID=UTC:20241002T150000
DTSTAMP:20260422T182407
CREATED:20240723T112838Z
LAST-MODIFIED:20241115T153259Z
UID:10000190-1727863200-1727881200@dolphinshoppingcentre.co.uk
SUMMARY:Craftaholics Makers Market
DESCRIPTION:Discover unique designs and handcrafted works from local makers\, including locally produced jewellery\, cards\, handbags\, crocheted jumpers and artwork.\nFancying trying your hand at crocheting\, knitting or sewing? Visit Craftaholics drop-in workshop!
URL:https://dolphinshoppingcentre.co.uk/event/craftaholics-makers-market/2024-10-02/
LOCATION:GATHER\, Ground Floor\, The Dolphin\, Poole\, Dorset\, BH15 1SZ\, United Kingdom
CATEGORIES:GATHER,Markets & Exhibitions
ATTACH;FMTTYPE=image/webp:https://dolphinshoppingcentre.co.uk/wp-content/uploads/2024/07/Facebook-Event-Covers-19.webp
END:VEVENT
BEGIN:VEVENT
DTSTART;TZID=UTC:20241001T100000
DTEND;TZID=UTC:20241001T160000
DTSTAMP:20260422T182407
CREATED:20240917T101920Z
LAST-MODIFIED:20240917T101920Z
UID:10006471-1727776800-1727798400@dolphinshoppingcentre.co.uk
SUMMARY:International Day of Older People
DESCRIPTION:Join PramaLife and partners to learn more about the resources and support available relating to ageing and wellbeing.
URL:https://dolphinshoppingcentre.co.uk/event/international-day-of-older-people/
LOCATION:GATHER\, Ground Floor\, The Dolphin\, Poole\, Dorset\, BH15 1SZ\, United Kingdom
CATEGORIES:GATHER,Local Resources & Information
END:VEVENT
BEGIN:VEVENT
DTSTART;TZID=UTC:20240929T100000
DTEND;TZID=UTC:20240929T160000
DTSTAMP:20260422T182407
CREATED:20240920T080441Z
LAST-MODIFIED:20240920T080441Z
UID:10006769-1727604000-1727625600@dolphinshoppingcentre.co.uk
SUMMARY:World Reflexology Week Event
DESCRIPTION:Reflexology is a natural holistic touch therapy that promotes relaxation and by doing so may relieve tension and stress\, aid better sleep and can improve mood and create a sense of wellbeing.  \nDiscover the benefits of Reflexology with FREE taster sessions and workshops to rejuvenate your mind and body: \n10.30am to 11.00am: Sleep\n11.30am to 12pm: Babies\n12.30pm to 1pm: Stress & Tension\n1.30pm to 2pm: Peri-Menopause & Menopause\n2.30pm to 3pm: Headaches & Migraine\n3.30pm to 4pm: Digestion \nReserve a slot for your preferred session via the link below. (Walk-ins are also welcome\, but your preferred session is not guaranteed!) \nWe’ll also be offering a chance to win a complimentary reflexology session too!
URL:https://dolphinshoppingcentre.co.uk/event/world-reflexology-week-event/
LOCATION:GATHER\, Ground Floor\, The Dolphin\, Poole\, Dorset\, BH15 1SZ\, United Kingdom
CATEGORIES:GATHER,Local Resources & Information,Workshop
END:VEVENT
BEGIN:VEVENT
DTSTART;TZID=UTC:20240928T100000
DTEND;TZID=UTC:20240928T160000
DTSTAMP:20260422T182407
CREATED:20240917T100733Z
LAST-MODIFIED:20240917T100733Z
UID:10006194-1727517600-1727539200@dolphinshoppingcentre.co.uk
SUMMARY:Bouncy Castle & Fresh Candyfloss
DESCRIPTION:Keep the kids entertained this summer with soft play\, bouncy castle and fresh candyfloss from PR Leisure. \nJust £2 entry!
URL:https://dolphinshoppingcentre.co.uk/event/bouncy-castle-fresh-candyfloss-3-2/
LOCATION:GATHER\, Ground Floor\, The Dolphin\, Poole\, Dorset\, BH15 1SZ\, United Kingdom
CATEGORIES:For Kids,GATHER
ORGANIZER;CN="PR Leisure":MAILTO:prleisure1@hotmail.com
END:VEVENT
BEGIN:VEVENT
DTSTART;TZID=UTC:20240927T100000
DTEND;TZID=UTC:20240927T130000
DTSTAMP:20260422T182407
CREATED:20240917T095608Z
LAST-MODIFIED:20240917T095608Z
UID:10006193-1727431200-1727442000@dolphinshoppingcentre.co.uk
SUMMARY:CAN Volunteer Fair
DESCRIPTION:Looking to make a difference in your community? Want to give back\, learn new skills\, and meet amazing people?\n\nWe’ve got the perfect volunteer opportunity for you! Come along to one of our Volunteer Fairs and find the perfect volunteer role\, based on your skills\, interests and availability.
URL:https://dolphinshoppingcentre.co.uk/event/can-volunteer-fair/
LOCATION:GATHER\, Ground Floor\, The Dolphin\, Poole\, Dorset\, BH15 1SZ\, United Kingdom
CATEGORIES:GATHER,Local Resources & Information
END:VEVENT
BEGIN:VEVENT
DTSTART;TZID=UTC:20240925T100000
DTEND;TZID=UTC:20240925T160000
DTSTAMP:20260422T182407
CREATED:20240917T094008Z
LAST-MODIFIED:20240917T094008Z
UID:10006192-1727258400-1727280000@dolphinshoppingcentre.co.uk
SUMMARY:Mark Page Artworks & Jane L. Artworks Exhibition
DESCRIPTION:Explore the natural world of landscapes and wildlife with the latest exhibition from Mark Page Artworks and Jane L. Artworks.
URL:https://dolphinshoppingcentre.co.uk/event/mark-page-artworks-jane-l-artworks-exhibition/2024-09-25/
LOCATION:GATHER\, Ground Floor\, The Dolphin\, Poole\, Dorset\, BH15 1SZ\, United Kingdom
CATEGORIES:GATHER,Markets & Exhibitions
END:VEVENT
BEGIN:VEVENT
DTSTART;TZID=UTC:20240924T100000
DTEND;TZID=UTC:20240924T160000
DTSTAMP:20260422T182407
CREATED:20240917T094008Z
LAST-MODIFIED:20240917T094008Z
UID:10006191-1727172000-1727193600@dolphinshoppingcentre.co.uk
SUMMARY:Mark Page Artworks & Jane L. Artworks Exhibition
DESCRIPTION:Explore the natural world of landscapes and wildlife with the latest exhibition from Mark Page Artworks and Jane L. Artworks.
URL:https://dolphinshoppingcentre.co.uk/event/mark-page-artworks-jane-l-artworks-exhibition/2024-09-24/
LOCATION:GATHER\, Ground Floor\, The Dolphin\, Poole\, Dorset\, BH15 1SZ\, United Kingdom
CATEGORIES:GATHER,Markets & Exhibitions
END:VEVENT
BEGIN:VEVENT
DTSTART;TZID=UTC:20240923T100000
DTEND;TZID=UTC:20240923T160000
DTSTAMP:20260422T182407
CREATED:20240917T094008Z
LAST-MODIFIED:20240917T094008Z
UID:10006190-1727085600-1727107200@dolphinshoppingcentre.co.uk
SUMMARY:Mark Page Artworks & Jane L. Artworks Exhibition
DESCRIPTION:Explore the natural world of landscapes and wildlife with the latest exhibition from Mark Page Artworks and Jane L. Artworks.
URL:https://dolphinshoppingcentre.co.uk/event/mark-page-artworks-jane-l-artworks-exhibition/2024-09-23/
LOCATION:GATHER\, Ground Floor\, The Dolphin\, Poole\, Dorset\, BH15 1SZ\, United Kingdom
CATEGORIES:GATHER,Markets & Exhibitions
END:VEVENT
BEGIN:VEVENT
DTSTART;TZID=UTC:20240922T100000
DTEND;TZID=UTC:20240922T160000
DTSTAMP:20260422T182407
CREATED:20240917T094008Z
LAST-MODIFIED:20240917T094008Z
UID:10006189-1726999200-1727020800@dolphinshoppingcentre.co.uk
SUMMARY:Mark Page Artworks & Jane L. Artworks Exhibition
DESCRIPTION:Explore the natural world of landscapes and wildlife with the latest exhibition from Mark Page Artworks and Jane L. Artworks.
URL:https://dolphinshoppingcentre.co.uk/event/mark-page-artworks-jane-l-artworks-exhibition/2024-09-22/
LOCATION:GATHER\, Ground Floor\, The Dolphin\, Poole\, Dorset\, BH15 1SZ\, United Kingdom
CATEGORIES:GATHER,Markets & Exhibitions
END:VEVENT
BEGIN:VEVENT
DTSTART;TZID=UTC:20240921T100000
DTEND;TZID=UTC:20240921T160000
DTSTAMP:20260422T182407
CREATED:20240917T094008Z
LAST-MODIFIED:20240917T094008Z
UID:10006188-1726912800-1726934400@dolphinshoppingcentre.co.uk
SUMMARY:Mark Page Artworks & Jane L. Artworks Exhibition
DESCRIPTION:Explore the natural world of landscapes and wildlife with the latest exhibition from Mark Page Artworks and Jane L. Artworks.
URL:https://dolphinshoppingcentre.co.uk/event/mark-page-artworks-jane-l-artworks-exhibition/2024-09-21/
LOCATION:GATHER\, Ground Floor\, The Dolphin\, Poole\, Dorset\, BH15 1SZ\, United Kingdom
CATEGORIES:GATHER,Markets & Exhibitions
END:VEVENT
BEGIN:VEVENT
DTSTART;TZID=UTC:20240920T100000
DTEND;TZID=UTC:20240920T160000
DTSTAMP:20260422T182407
CREATED:20240917T094008Z
LAST-MODIFIED:20240917T094008Z
UID:10006187-1726826400-1726848000@dolphinshoppingcentre.co.uk
SUMMARY:Mark Page Artworks & Jane L. Artworks Exhibition
DESCRIPTION:Explore the natural world of landscapes and wildlife with the latest exhibition from Mark Page Artworks and Jane L. Artworks.
URL:https://dolphinshoppingcentre.co.uk/event/mark-page-artworks-jane-l-artworks-exhibition/2024-09-20/
LOCATION:GATHER\, Ground Floor\, The Dolphin\, Poole\, Dorset\, BH15 1SZ\, United Kingdom
CATEGORIES:GATHER,Markets & Exhibitions
END:VEVENT
BEGIN:VEVENT
DTSTART;TZID=UTC:20240919T100000
DTEND;TZID=UTC:20240919T160000
DTSTAMP:20260422T182407
CREATED:20240917T094008Z
LAST-MODIFIED:20240917T094008Z
UID:10006186-1726740000-1726761600@dolphinshoppingcentre.co.uk
SUMMARY:Mark Page Artworks & Jane L. Artworks Exhibition
DESCRIPTION:Explore the natural world of landscapes and wildlife with the latest exhibition from Mark Page Artworks and Jane L. Artworks.
URL:https://dolphinshoppingcentre.co.uk/event/mark-page-artworks-jane-l-artworks-exhibition/2024-09-19/
LOCATION:GATHER\, Ground Floor\, The Dolphin\, Poole\, Dorset\, BH15 1SZ\, United Kingdom
CATEGORIES:GATHER,Markets & Exhibitions
END:VEVENT
END:VCALENDAR