BEGIN:VCALENDAR
VERSION:2.0
PRODID:-//Dolphin Shopping Centres - ECPv6.15.20//NONSGML v1.0//EN
CALSCALE:GREGORIAN
METHOD:PUBLISH
X-ORIGINAL-URL:https://dolphinshoppingcentre.co.uk
X-WR-CALDESC:Events for Dolphin Shopping Centres
REFRESH-INTERVAL;VALUE=DURATION:PT1H
X-Robots-Tag:noindex
X-PUBLISHED-TTL:PT1H
BEGIN:VTIMEZONE
TZID:UTC
BEGIN:STANDARD
TZOFFSETFROM:+0000
TZOFFSETTO:+0000
TZNAME:UTC
DTSTART:20230101T000000
END:STANDARD
END:VTIMEZONE
BEGIN:VEVENT
DTSTART;TZID=UTC:20241129T100000
DTEND;TZID=UTC:20241129T160000
DTSTAMP:20260422T154408
CREATED:20241101T162856Z
LAST-MODIFIED:20241115T152314Z
UID:10007204-1732874400-1732896000@dolphinshoppingcentre.co.uk
SUMMARY:Poole Leisure Painters Exhibition
DESCRIPTION:Discover recent artwork from Poole Leisure Painters using watercolour\, acrylic\, color pencils\, graphite\, pastel\, charcoal and more!\n\nPoole Leisure Painters meet Tuesdays and Fridays 10am – 3pm during term time at the Lighthouse Poole\, and welcome all skills and abilities.
URL:https://dolphinshoppingcentre.co.uk/event/poole-leisure-painters-exhibition/2024-11-29/
LOCATION:GATHER\, Ground Floor\, The Dolphin\, Poole\, Dorset\, BH15 1SZ\, United Kingdom
CATEGORIES:GATHER,Markets & Exhibitions
ATTACH;FMTTYPE=image/webp:https://dolphinshoppingcentre.co.uk/wp-content/uploads/2024/11/Facebook-Event-Covers-8.webp
END:VEVENT
BEGIN:VEVENT
DTSTART;TZID=UTC:20241128T100000
DTEND;TZID=UTC:20241128T160000
DTSTAMP:20260422T154408
CREATED:20241101T162856Z
LAST-MODIFIED:20241115T152314Z
UID:10007203-1732788000-1732809600@dolphinshoppingcentre.co.uk
SUMMARY:Poole Leisure Painters Exhibition
DESCRIPTION:Discover recent artwork from Poole Leisure Painters using watercolour\, acrylic\, color pencils\, graphite\, pastel\, charcoal and more!\n\nPoole Leisure Painters meet Tuesdays and Fridays 10am – 3pm during term time at the Lighthouse Poole\, and welcome all skills and abilities.
URL:https://dolphinshoppingcentre.co.uk/event/poole-leisure-painters-exhibition/2024-11-28/
LOCATION:GATHER\, Ground Floor\, The Dolphin\, Poole\, Dorset\, BH15 1SZ\, United Kingdom
CATEGORIES:GATHER,Markets & Exhibitions
ATTACH;FMTTYPE=image/webp:https://dolphinshoppingcentre.co.uk/wp-content/uploads/2024/11/Facebook-Event-Covers-8.webp
END:VEVENT
BEGIN:VEVENT
DTSTART;TZID=UTC:20241125T100000
DTEND;TZID=UTC:20241125T160000
DTSTAMP:20260422T154408
CREATED:20241101T161517Z
LAST-MODIFIED:20241101T161517Z
UID:10007138-1732528800-1732550400@dolphinshoppingcentre.co.uk
SUMMARY:Pop Up Play Village
DESCRIPTION:Bring your little ones along to visit Pop Up Play Village in GATHER! \nPop Up Play Village is the original multi award winning mobile role play village like no other! Children can become doctors\, chefs\, artists\, vets\, builders\, adventurers\, explorers… Imagination knows no limits here and no two play sessions are ever the same!
URL:https://dolphinshoppingcentre.co.uk/event/pop-up-play-village/
LOCATION:GATHER\, Ground Floor\, The Dolphin\, Poole\, Dorset\, BH15 1SZ\, United Kingdom
CATEGORIES:For Kids,GATHER
END:VEVENT
BEGIN:VEVENT
DTSTART;TZID=UTC:20241123T100000
DTEND;TZID=UTC:20241123T160000
DTSTAMP:20260422T154408
CREATED:20241101T160354Z
LAST-MODIFIED:20241115T152005Z
UID:10006861-1732356000-1732377600@dolphinshoppingcentre.co.uk
SUMMARY:Poole Men's Shed
DESCRIPTION:Browse wooden gifts and crafts made by the members of Poole Men’s Shed. \nWhat is Poole Men’s Shed?\nPoole Men’s Shed is larger version of the typical man’s garden shed! A group of men working on projects at their own pace in a friendly and inclusive venue\, sharing their skills and crafts. All are welcome to join in.
URL:https://dolphinshoppingcentre.co.uk/event/poole-mens-shed-2-2/
LOCATION:GATHER\, Ground Floor\, The Dolphin\, Poole\, Dorset\, BH15 1SZ\, United Kingdom
CATEGORIES:GATHER,Local Resources & Information,Markets & Exhibitions
ATTACH;FMTTYPE=image/webp:https://dolphinshoppingcentre.co.uk/wp-content/uploads/2024/11/Facebook-Event-Covers-6.webp
ORGANIZER;CN="Poole Men's Shed":MAILTO:Poolemensshed@outlook.com
END:VEVENT
BEGIN:VEVENT
DTSTART;TZID=UTC:20241122T100000
DTEND;TZID=UTC:20241122T160000
DTSTAMP:20260422T154408
CREATED:20241101T161018Z
LAST-MODIFIED:20241115T151839Z
UID:10007137-1732269600-1732291200@dolphinshoppingcentre.co.uk
SUMMARY:Poole Men's Shed
DESCRIPTION:Browse wooden gifts and crafts made by the members of Poole Men’s Shed.\n\nWhat is Poole Men’s Shed?\nPoole Men’s Shed is larger version of the typical man’s garden shed! A group of men working on projects at their own pace in a friendly and inclusive venue\, sharing their skills and crafts. All are welcome to join in.
URL:https://dolphinshoppingcentre.co.uk/event/poole-mens-shed-2-2-2/
LOCATION:GATHER\, Ground Floor\, The Dolphin\, Poole\, Dorset\, BH15 1SZ\, United Kingdom
CATEGORIES:GATHER,Local Resources & Information,Markets & Exhibitions
ATTACH;FMTTYPE=image/webp:https://dolphinshoppingcentre.co.uk/wp-content/uploads/2024/11/Facebook-Event-Covers-6.webp
ORGANIZER;CN="Poole Men's Shed":MAILTO:Poolemensshed@outlook.com
END:VEVENT
BEGIN:VEVENT
DTSTART;TZID=UTC:20241121T100000
DTEND;TZID=UTC:20241121T160000
DTSTAMP:20260422T154408
CREATED:20240715T150954Z
LAST-MODIFIED:20241115T150940Z
UID:10000061-1732183200-1732204800@dolphinshoppingcentre.co.uk
SUMMARY:Buttons & Bows Makers Market
DESCRIPTION:Discover locally produced\, handmade gifts for every occasion\, and meet the talented crafters behind them! \nButtons & Bows pride themselves on making beautiful handmade gifts for all occasions. We can make bespoke gifts for baby showers\, weddings\, birthdays and anniversaries\, or a even as a little treat for yourself! Many of our products can also be personalised to make them extra special. \nButtons & Bows host local handmade fairs and markets throughout the year where fellow crafters can show off their talents and buyers can purchase bespoke gifts. All events are free for visitors to attend\, family friendly and have plenty of free parking on site. \nYou’ll find a large selection of handmade gifts from many local crafters\, workshops\, a pop up ‘cafe’\, children’s activities and so much more!
URL:https://dolphinshoppingcentre.co.uk/event/buttons-bows-makers-market/2024-11-21/
LOCATION:GATHER\, Ground Floor\, The Dolphin\, Poole\, Dorset\, BH15 1SZ\, United Kingdom
CATEGORIES:GATHER,Markets & Exhibitions
ATTACH;FMTTYPE=image/webp:https://dolphinshoppingcentre.co.uk/wp-content/uploads/2024/07/Facebook-Event-Covers-17.webp
ORGANIZER;CN="Buttons & Bows Events":MAILTO:info@buttonsbows.co.uk
END:VEVENT
BEGIN:VEVENT
DTSTART;TZID=UTC:20241118T100000
DTEND;TZID=UTC:20241118T160000
DTSTAMP:20260422T154408
CREATED:20241101T160134Z
LAST-MODIFIED:20241115T150640Z
UID:10006860-1731924000-1731945600@dolphinshoppingcentre.co.uk
SUMMARY:Paul Storm Arts Silversmithing
DESCRIPTION:Learn about bespoke jewellery making with Paul Storm! Paul has over 20 years of experience designing and repairing handmade jewellery with precious metals and gemstones. \n  \n 
URL:https://dolphinshoppingcentre.co.uk/event/paul-storm-arts-silversmithing/2024-11-18/
LOCATION:GATHER\, Ground Floor\, The Dolphin\, Poole\, Dorset\, BH15 1SZ\, United Kingdom
CATEGORIES:GATHER,Local Resources & Information,Workshop
ATTACH;FMTTYPE=image/webp:https://dolphinshoppingcentre.co.uk/wp-content/uploads/2024/11/Facebook-Event-Covers-15.webp
END:VEVENT
BEGIN:VEVENT
DTSTART;TZID=UTC:20241117T100000
DTEND;TZID=UTC:20241117T160000
DTSTAMP:20260422T154408
CREATED:20241101T160134Z
LAST-MODIFIED:20241115T150640Z
UID:10006859-1731837600-1731859200@dolphinshoppingcentre.co.uk
SUMMARY:Paul Storm Arts Silversmithing
DESCRIPTION:Learn about bespoke jewellery making with Paul Storm! Paul has over 20 years of experience designing and repairing handmade jewellery with precious metals and gemstones. \n  \n 
URL:https://dolphinshoppingcentre.co.uk/event/paul-storm-arts-silversmithing/2024-11-17/
LOCATION:GATHER\, Ground Floor\, The Dolphin\, Poole\, Dorset\, BH15 1SZ\, United Kingdom
CATEGORIES:GATHER,Local Resources & Information,Workshop
ATTACH;FMTTYPE=image/webp:https://dolphinshoppingcentre.co.uk/wp-content/uploads/2024/11/Facebook-Event-Covers-15.webp
END:VEVENT
BEGIN:VEVENT
DTSTART;TZID=UTC:20241116T100000
DTEND;TZID=UTC:20241116T160000
DTSTAMP:20260422T154408
CREATED:20241101T160134Z
LAST-MODIFIED:20241115T150640Z
UID:10006858-1731751200-1731772800@dolphinshoppingcentre.co.uk
SUMMARY:Paul Storm Arts Silversmithing
DESCRIPTION:Learn about bespoke jewellery making with Paul Storm! Paul has over 20 years of experience designing and repairing handmade jewellery with precious metals and gemstones. \n  \n 
URL:https://dolphinshoppingcentre.co.uk/event/paul-storm-arts-silversmithing/2024-11-16/
LOCATION:GATHER\, Ground Floor\, The Dolphin\, Poole\, Dorset\, BH15 1SZ\, United Kingdom
CATEGORIES:GATHER,Local Resources & Information,Workshop
ATTACH;FMTTYPE=image/webp:https://dolphinshoppingcentre.co.uk/wp-content/uploads/2024/11/Facebook-Event-Covers-15.webp
END:VEVENT
BEGIN:VEVENT
DTSTART;TZID=UTC:20241115T100000
DTEND;TZID=UTC:20241115T160000
DTSTAMP:20260422T154408
CREATED:20241101T155302Z
LAST-MODIFIED:20241115T150423Z
UID:10006857-1731664800-1731686400@dolphinshoppingcentre.co.uk
SUMMARY:A Boy Called Arsenal: Meet & Greet with Arsenal!
DESCRIPTION:Arsenal Whittick is the inspiration for A Boy Called Arsenal by Alan J Hill. \nArsenal grew up in Liverpool and became obsessed with Arsenal Football Club as a young boy. At the age of twenty-three\, he changed his name by deed poll to Arsenal Whittick. \nA Boy Called Arsenal is an honest and emotional true story about a man who\, after a life-long battle with mental and physical problems\, finally became diagnosed with autism at the age of forty-nine in 2011. The catalyst for his diagnosis was his daughter’s attempted suicide\, which drove this troubled man to finally get the help he needed. \nThe book is based on a series of recordings of conversations between the author and Arsenal as well as discussions with his ex-wife and his two daughters. Using extracts from a variety of sources including medical letters\, personal letters and football reports\, A Boy Called Arsenal is a heart-warming and triumphant story of a life-changing diagnosis and subsequent treatment. \nCome along and meet Arsenal\, and grab a signed copy of A Boy Called Arsenal.
URL:https://dolphinshoppingcentre.co.uk/event/a-boy-called-arsenal-meet-greet-with-arsenal-2-2/
LOCATION:GATHER\, Ground Floor\, The Dolphin\, Poole\, Dorset\, BH15 1SZ\, United Kingdom
CATEGORIES:GATHER,Local Resources & Information
ATTACH;FMTTYPE=image/webp:https://dolphinshoppingcentre.co.uk/wp-content/uploads/2024/11/Facebook-Event-Covers-16.webp
END:VEVENT
BEGIN:VEVENT
DTSTART;TZID=UTC:20241113T100000
DTEND;TZID=UTC:20241113T160000
DTSTAMP:20260422T154408
CREATED:20241101T155123Z
LAST-MODIFIED:20241101T155123Z
UID:10006856-1731492000-1731513600@dolphinshoppingcentre.co.uk
SUMMARY:Fostering & Supported Lodgings Information Event
DESCRIPTION:Have you thought about fostering? Meet BCP Council’s Fostering & Supported Lodgings team who help connect children and young people with local foster carers. \nThe team will be on hand to answer any questions you may have about making a difference through fostering.
URL:https://dolphinshoppingcentre.co.uk/event/fostering-supported-lodgings-information-event/
LOCATION:GATHER\, Ground Floor\, The Dolphin\, Poole\, Dorset\, BH15 1SZ\, United Kingdom
CATEGORIES:GATHER,Local Resources & Information
END:VEVENT
BEGIN:VEVENT
DTSTART;TZID=UTC:20241110T100000
DTEND;TZID=UTC:20241110T160000
DTSTAMP:20260422T154408
CREATED:20241101T152613Z
LAST-MODIFIED:20241101T152613Z
UID:10006854-1731232800-1731254400@dolphinshoppingcentre.co.uk
SUMMARY:Mark Page Artworks & Jane Elle Artworks Exhibition
DESCRIPTION:Immerse yourself in the beauty of Dorset at the Mark Page Artworks and Jane Elle Artworks exhibition. Discover captivating landscapes and portraits\, imaginative creature creations and stunning architecture\, AND take part in an interactive workshop!
URL:https://dolphinshoppingcentre.co.uk/event/mark-page-artworks-exhibition/2024-11-10/
LOCATION:GATHER\, Ground Floor\, The Dolphin\, Poole\, Dorset\, BH15 1SZ\, United Kingdom
CATEGORIES:GATHER,Markets & Exhibitions
END:VEVENT
BEGIN:VEVENT
DTSTART;TZID=UTC:20241109T100000
DTEND;TZID=UTC:20241109T160000
DTSTAMP:20260422T154408
CREATED:20241101T152613Z
LAST-MODIFIED:20241101T152613Z
UID:10006853-1731146400-1731168000@dolphinshoppingcentre.co.uk
SUMMARY:Mark Page Artworks & Jane Elle Artworks Exhibition
DESCRIPTION:Immerse yourself in the beauty of Dorset at the Mark Page Artworks and Jane Elle Artworks exhibition. Discover captivating landscapes and portraits\, imaginative creature creations and stunning architecture\, AND take part in an interactive workshop!
URL:https://dolphinshoppingcentre.co.uk/event/mark-page-artworks-exhibition/2024-11-09/
LOCATION:GATHER\, Ground Floor\, The Dolphin\, Poole\, Dorset\, BH15 1SZ\, United Kingdom
CATEGORIES:GATHER,Markets & Exhibitions
END:VEVENT
BEGIN:VEVENT
DTSTART;TZID=UTC:20241108T100000
DTEND;TZID=UTC:20241108T160000
DTSTAMP:20260422T154408
CREATED:20241101T152613Z
LAST-MODIFIED:20241101T152613Z
UID:10006852-1731060000-1731081600@dolphinshoppingcentre.co.uk
SUMMARY:Mark Page Artworks & Jane Elle Artworks Exhibition
DESCRIPTION:Immerse yourself in the beauty of Dorset at the Mark Page Artworks and Jane Elle Artworks exhibition. Discover captivating landscapes and portraits\, imaginative creature creations and stunning architecture\, AND take part in an interactive workshop!
URL:https://dolphinshoppingcentre.co.uk/event/mark-page-artworks-exhibition/2024-11-08/
LOCATION:GATHER\, Ground Floor\, The Dolphin\, Poole\, Dorset\, BH15 1SZ\, United Kingdom
CATEGORIES:GATHER,Markets & Exhibitions
END:VEVENT
BEGIN:VEVENT
DTSTART;TZID=UTC:20241107T100000
DTEND;TZID=UTC:20241107T160000
DTSTAMP:20260422T154408
CREATED:20241101T152613Z
LAST-MODIFIED:20241101T152613Z
UID:10006851-1730973600-1730995200@dolphinshoppingcentre.co.uk
SUMMARY:Mark Page Artworks & Jane Elle Artworks Exhibition
DESCRIPTION:Immerse yourself in the beauty of Dorset at the Mark Page Artworks and Jane Elle Artworks exhibition. Discover captivating landscapes and portraits\, imaginative creature creations and stunning architecture\, AND take part in an interactive workshop!
URL:https://dolphinshoppingcentre.co.uk/event/mark-page-artworks-exhibition/2024-11-07/
LOCATION:GATHER\, Ground Floor\, The Dolphin\, Poole\, Dorset\, BH15 1SZ\, United Kingdom
CATEGORIES:GATHER,Markets & Exhibitions
END:VEVENT
BEGIN:VEVENT
DTSTART;TZID=UTC:20241106T100000
DTEND;TZID=UTC:20241106T160000
DTSTAMP:20260422T154408
CREATED:20240723T112838Z
LAST-MODIFIED:20241115T153259Z
UID:10000191-1730887200-1730908800@dolphinshoppingcentre.co.uk
SUMMARY:Craftaholics Makers Market
DESCRIPTION:Discover unique designs and handcrafted works from local makers\, including locally produced jewellery\, cards\, handbags\, crocheted jumpers and artwork.\nFancying trying your hand at crocheting\, knitting or sewing? Visit Craftaholics drop-in workshop!
URL:https://dolphinshoppingcentre.co.uk/event/craftaholics-makers-market/2024-11-06/
LOCATION:GATHER\, Ground Floor\, The Dolphin\, Poole\, Dorset\, BH15 1SZ\, United Kingdom
CATEGORIES:GATHER,Markets & Exhibitions
ATTACH;FMTTYPE=image/webp:https://dolphinshoppingcentre.co.uk/wp-content/uploads/2024/07/Facebook-Event-Covers-19.webp
END:VEVENT
BEGIN:VEVENT
DTSTART;TZID=UTC:20241103T100000
DTEND;TZID=UTC:20241103T160000
DTSTAMP:20260422T154408
CREATED:20241028T173704Z
LAST-MODIFIED:20241028T173704Z
UID:10006850-1730628000-1730649600@dolphinshoppingcentre.co.uk
SUMMARY:Poole Baby Event
DESCRIPTION:Join us for another Poole Baby Event\, hosted by Samantha Prewett Photography. \nEnjoy free talks\, classes and demos from Dorset’s leading maternity and baby service providers. A tombola-style raffle and free goodie bags are also available on the day!
URL:https://dolphinshoppingcentre.co.uk/event/poole-baby-event/
LOCATION:GATHER\, Ground Floor\, The Dolphin\, Poole\, Dorset\, BH15 1SZ\, United Kingdom
CATEGORIES:GATHER,Local Resources & Information
END:VEVENT
BEGIN:VEVENT
DTSTART;TZID=UTC:20241101T100000
DTEND;TZID=UTC:20241101T160000
DTSTAMP:20260422T154408
CREATED:20241016T160248Z
LAST-MODIFIED:20241016T160248Z
UID:10006849-1730455200-1730476800@dolphinshoppingcentre.co.uk
SUMMARY:Cybersecurity Family Fun Day: Games and Learning for All Ages
DESCRIPTION:Join us for a fun\, interactive drop-in activity for half-term. This event is designed for families to explore the world of cybersecurity through engaging board games\, including BU‘s own CyGamBIT. Learn essential safety tips while having fun! BU researchers and students will be on hand to guide you through the games\, answer your questions and help you understand how to stay safe in the digital world.\n \n\nThe ESRC Festival of Social Science is an annual celebration of the social sciences and a key element of ESRC’s commitment to promote awareness of UK social science research to new audiences. This year the festival is being held from 19 October to 9 November 2024 and features exciting and creative events run by 41 universities across the UK.\n\n \nPlease register your interest and book your preferred session via Eventbrite:\n\nMorning session: 10 AM – 12 PM\nAfternoon session: 1 PM – 4 PM
URL:https://dolphinshoppingcentre.co.uk/event/cybersecurity-family-fun-day-games-and-learning-for-all-ages/
LOCATION:GATHER\, Ground Floor\, The Dolphin\, Poole\, Dorset\, BH15 1SZ\, United Kingdom
CATEGORIES:For Kids,GATHER,Local Resources & Information
END:VEVENT
BEGIN:VEVENT
DTSTART;TZID=UTC:20241031T100000
DTEND;TZID=UTC:20241031T150000
DTSTAMP:20260422T154408
CREATED:20241016T111737Z
LAST-MODIFIED:20241016T111737Z
UID:10006848-1730368800-1730386800@dolphinshoppingcentre.co.uk
SUMMARY:Halloween Crafts with Diverse Abilities
DESCRIPTION:Make your own Day of The Dead mask at Diverse Abilities‘ Halloween crafts workshop. Remember\, we’ll be celebrating Day of The Dead on Saturday 2nd November at The Dolphin\, so be sure to come back and show off your new mask! \nSuggested donation of £1 per person to take part.
URL:https://dolphinshoppingcentre.co.uk/event/halloween-crafts-with-diverse-abilities/
LOCATION:GATHER\, Ground Floor\, The Dolphin\, Poole\, Dorset\, BH15 1SZ\, United Kingdom
CATEGORIES:Charity Events,For Kids,GATHER,Holidays & Celebrations
END:VEVENT
BEGIN:VEVENT
DTSTART;TZID=UTC:20241030T100000
DTEND;TZID=UTC:20241030T160000
DTSTAMP:20260422T154408
CREATED:20240917T133623Z
LAST-MODIFIED:20240917T133623Z
UID:10006493-1730282400-1730304000@dolphinshoppingcentre.co.uk
SUMMARY:Halloween Bouncy Castle
DESCRIPTION:It’s almost Halloween\, which means the kids will be full of beans! Keep the kids entertained with a visit to PR Leisure’s Halloween-themed bouncy castle. \nJust £2 entry!
URL:https://dolphinshoppingcentre.co.uk/event/halloween-bouncy-castle/
LOCATION:GATHER\, Ground Floor\, The Dolphin\, Poole\, Dorset\, BH15 1SZ\, United Kingdom
CATEGORIES:For Kids,GATHER
ORGANIZER;CN="PR Leisure":MAILTO:prleisure1@hotmail.com
END:VEVENT
BEGIN:VEVENT
DTSTART;TZID=UTC:20241029T100000
DTEND;TZID=UTC:20241029T160000
DTSTAMP:20260422T154408
CREATED:20240917T132954Z
LAST-MODIFIED:20240917T132954Z
UID:10006492-1730196000-1730217600@dolphinshoppingcentre.co.uk
SUMMARY:Open Day: Bournemouth & Poole College
DESCRIPTION:Thinking about further study? Find out more about studying further or higher education courses at Bournemouth & Poole College.
URL:https://dolphinshoppingcentre.co.uk/event/open-day-bournemouth-poole-college/2024-10-29/
LOCATION:GATHER\, Ground Floor\, The Dolphin\, Poole\, Dorset\, BH15 1SZ\, United Kingdom
CATEGORIES:GATHER,Local Resources & Information
END:VEVENT
BEGIN:VEVENT
DTSTART;TZID=UTC:20241028T100000
DTEND;TZID=UTC:20241028T160000
DTSTAMP:20260422T154408
CREATED:20240917T132954Z
LAST-MODIFIED:20240917T132954Z
UID:10006491-1730109600-1730131200@dolphinshoppingcentre.co.uk
SUMMARY:Open Day: Bournemouth & Poole College
DESCRIPTION:Thinking about further study? Find out more about studying further or higher education courses at Bournemouth & Poole College.
URL:https://dolphinshoppingcentre.co.uk/event/open-day-bournemouth-poole-college/2024-10-28/
LOCATION:GATHER\, Ground Floor\, The Dolphin\, Poole\, Dorset\, BH15 1SZ\, United Kingdom
CATEGORIES:GATHER,Local Resources & Information
END:VEVENT
BEGIN:VEVENT
DTSTART;TZID=UTC:20241025T100000
DTEND;TZID=UTC:20241025T160000
DTSTAMP:20260422T154408
CREATED:20240715T162603Z
LAST-MODIFIED:20240723T112201Z
UID:10000186-1729850400-1729872000@dolphinshoppingcentre.co.uk
SUMMARY:A Boy Called Arsenal: Meet & Greet with Arsenal!
DESCRIPTION:Arsenal Whittick is the inspiration for A Boy Called Arsenal by Alan J Hill. \nArsenal grew up in Liverpool and became obsessed with Arsenal Football Club as a young boy. At the age of twenty-three\, he changed his name by deed poll to Arsenal Whittick. \nA Boy Called Arsenal is an honest and emotional true story about a man who\, after a life-long battle with mental and physical problems\, finally became diagnosed with autism at the age of forty-nine in 2011. The catalyst for his diagnosis was his daughter’s attempted suicide\, which drove this troubled man to finally get the help he needed. \nThe book is based on a series of recordings of conversations between the author and Arsenal as well as discussions with his ex-wife and his two daughters. Using extracts from a variety of sources including medical letters\, personal letters and football reports\, A Boy Called Arsenal is a heart-warming and triumphant story of a life-changing diagnosis and subsequent treatment. \nCome along and meet Arsenal\, and grab a signed copy of A Boy Called Arsenal.
URL:https://dolphinshoppingcentre.co.uk/event/a-boy-called-arsenal-meet-greet-with-arsenal/2024-10-25/
LOCATION:GATHER\, Ground Floor\, The Dolphin\, Poole\, Dorset\, BH15 1SZ\, United Kingdom
CATEGORIES:GATHER
END:VEVENT
BEGIN:VEVENT
DTSTART;TZID=UTC:20241024T100000
DTEND;TZID=UTC:20241024T150000
DTSTAMP:20260422T154408
CREATED:20240917T112326Z
LAST-MODIFIED:20240917T112326Z
UID:10006489-1729764000-1729782000@dolphinshoppingcentre.co.uk
SUMMARY:Poole Waste Not Want Not Community Pop-Up
DESCRIPTION:Learn more about accessing community resources and support services in Poole. If you’re worried about the months ahead\, come along to GATHER to receive free support and advice. \n  \nEnjoy complimentary refreshments and children’s activities too!
URL:https://dolphinshoppingcentre.co.uk/event/poole-waste-not-want-not-community-pop-up/2024-10-24/
LOCATION:GATHER\, Ground Floor\, The Dolphin\, Poole\, Dorset\, BH15 1SZ\, United Kingdom
CATEGORIES:GATHER,Local Resources & Information
END:VEVENT
BEGIN:VEVENT
DTSTART;TZID=UTC:20241023T100000
DTEND;TZID=UTC:20241023T150000
DTSTAMP:20260422T154408
CREATED:20240917T112326Z
LAST-MODIFIED:20240917T112326Z
UID:10006488-1729677600-1729695600@dolphinshoppingcentre.co.uk
SUMMARY:Poole Waste Not Want Not Community Pop-Up
DESCRIPTION:Learn more about accessing community resources and support services in Poole. If you’re worried about the months ahead\, come along to GATHER to receive free support and advice. \n  \nEnjoy complimentary refreshments and children’s activities too!
URL:https://dolphinshoppingcentre.co.uk/event/poole-waste-not-want-not-community-pop-up/2024-10-23/
LOCATION:GATHER\, Ground Floor\, The Dolphin\, Poole\, Dorset\, BH15 1SZ\, United Kingdom
CATEGORIES:GATHER,Local Resources & Information
END:VEVENT
BEGIN:VEVENT
DTSTART;TZID=UTC:20241022T100000
DTEND;TZID=UTC:20241022T150000
DTSTAMP:20260422T154408
CREATED:20240917T112326Z
LAST-MODIFIED:20240917T112326Z
UID:10006487-1729591200-1729609200@dolphinshoppingcentre.co.uk
SUMMARY:Poole Waste Not Want Not Community Pop-Up
DESCRIPTION:Learn more about accessing community resources and support services in Poole. If you’re worried about the months ahead\, come along to GATHER to receive free support and advice. \n  \nEnjoy complimentary refreshments and children’s activities too!
URL:https://dolphinshoppingcentre.co.uk/event/poole-waste-not-want-not-community-pop-up/2024-10-22/
LOCATION:GATHER\, Ground Floor\, The Dolphin\, Poole\, Dorset\, BH15 1SZ\, United Kingdom
CATEGORIES:GATHER,Local Resources & Information
END:VEVENT
BEGIN:VEVENT
DTSTART;TZID=UTC:20241021T100000
DTEND;TZID=UTC:20241021T150000
DTSTAMP:20260422T154408
CREATED:20240917T112326Z
LAST-MODIFIED:20240917T112326Z
UID:10006486-1729504800-1729522800@dolphinshoppingcentre.co.uk
SUMMARY:Poole Waste Not Want Not Community Pop-Up
DESCRIPTION:Learn more about accessing community resources and support services in Poole. If you’re worried about the months ahead\, come along to GATHER to receive free support and advice. \n  \nEnjoy complimentary refreshments and children’s activities too!
URL:https://dolphinshoppingcentre.co.uk/event/poole-waste-not-want-not-community-pop-up/2024-10-21/
LOCATION:GATHER\, Ground Floor\, The Dolphin\, Poole\, Dorset\, BH15 1SZ\, United Kingdom
CATEGORIES:GATHER,Local Resources & Information
END:VEVENT
BEGIN:VEVENT
DTSTART;TZID=UTC:20241020T100000
DTEND;TZID=UTC:20241020T160000
DTSTAMP:20260422T154408
CREATED:20240917T110824Z
LAST-MODIFIED:20240917T110824Z
UID:10006485-1729418400-1729440000@dolphinshoppingcentre.co.uk
SUMMARY:Aspiring Artists: Art Exhibition
DESCRIPTION:Explore the recent work of local schoolchildren\, as inspired by their surroundings. Poole & East Dorset Art Society will also be running free workshops and demonstrations for visitors to join in with!
URL:https://dolphinshoppingcentre.co.uk/event/aspiring-artists-art-exhibition/2024-10-20/
LOCATION:GATHER\, Ground Floor\, The Dolphin\, Poole\, Dorset\, BH15 1SZ\, United Kingdom
CATEGORIES:GATHER,Markets & Exhibitions
END:VEVENT
BEGIN:VEVENT
DTSTART;TZID=UTC:20241019T100000
DTEND;TZID=UTC:20241019T160000
DTSTAMP:20260422T154408
CREATED:20240917T110824Z
LAST-MODIFIED:20240917T110824Z
UID:10006484-1729332000-1729353600@dolphinshoppingcentre.co.uk
SUMMARY:Aspiring Artists: Art Exhibition
DESCRIPTION:Explore the recent work of local schoolchildren\, as inspired by their surroundings. Poole & East Dorset Art Society will also be running free workshops and demonstrations for visitors to join in with!
URL:https://dolphinshoppingcentre.co.uk/event/aspiring-artists-art-exhibition/2024-10-19/
LOCATION:GATHER\, Ground Floor\, The Dolphin\, Poole\, Dorset\, BH15 1SZ\, United Kingdom
CATEGORIES:GATHER,Markets & Exhibitions
END:VEVENT
BEGIN:VEVENT
DTSTART;TZID=UTC:20241018T100000
DTEND;TZID=UTC:20241018T160000
DTSTAMP:20260422T154408
CREATED:20240917T110824Z
LAST-MODIFIED:20240917T110824Z
UID:10006483-1729245600-1729267200@dolphinshoppingcentre.co.uk
SUMMARY:Aspiring Artists: Art Exhibition
DESCRIPTION:Explore the recent work of local schoolchildren\, as inspired by their surroundings. Poole & East Dorset Art Society will also be running free workshops and demonstrations for visitors to join in with!
URL:https://dolphinshoppingcentre.co.uk/event/aspiring-artists-art-exhibition/2024-10-18/
LOCATION:GATHER\, Ground Floor\, The Dolphin\, Poole\, Dorset\, BH15 1SZ\, United Kingdom
CATEGORIES:GATHER,Markets & Exhibitions
END:VEVENT
END:VCALENDAR