BEGIN:VCALENDAR
VERSION:2.0
PRODID:-//Dolphin Shopping Centres - ECPv6.15.20//NONSGML v1.0//EN
CALSCALE:GREGORIAN
METHOD:PUBLISH
X-ORIGINAL-URL:https://dolphinshoppingcentre.co.uk
X-WR-CALDESC:Events for Dolphin Shopping Centres
REFRESH-INTERVAL;VALUE=DURATION:PT1H
X-Robots-Tag:noindex
X-PUBLISHED-TTL:PT1H
BEGIN:VTIMEZONE
TZID:UTC
BEGIN:STANDARD
TZOFFSETFROM:+0000
TZOFFSETTO:+0000
TZNAME:UTC
DTSTART:20240101T000000
END:STANDARD
END:VTIMEZONE
BEGIN:VEVENT
DTSTART;TZID=UTC:20250308T100000
DTEND;TZID=UTC:20250308T160000
DTSTAMP:20260422T125853
CREATED:20250228T123031Z
LAST-MODIFIED:20250228T123107Z
UID:10009442-1741428000-1741449600@dolphinshoppingcentre.co.uk
SUMMARY:Scale Model Exhibition
DESCRIPTION:Explore the latest creations from Poole Vikings Model Club! \nPoole Vikings Model Club are a local group of model making enthusiasts based in Broadstone. The clubs’ interests cover a wide variety of subjects\, including\, aircraft\, military and civilian vehicles\, sci-fi and fantasy\, figures and ships. \nIf you’re interested in learning more about model making\, come and find out more from the members of Poole Vikings Model Club.
URL:https://dolphinshoppingcentre.co.uk/event/scale-model-exhibition/
LOCATION:GATHER\, Ground Floor\, The Dolphin\, Poole\, Dorset\, BH15 1SZ\, United Kingdom
CATEGORIES:Clubs & Groups,GATHER
ATTACH;FMTTYPE=image/webp:https://dolphinshoppingcentre.co.uk/wp-content/uploads/2025/02/Facebook-Event-Covers-14.webp
END:VEVENT
END:VCALENDAR