BEGIN:VCALENDAR
VERSION:2.0
PRODID:-//Dolphin Shopping Centres - ECPv6.15.20//NONSGML v1.0//EN
CALSCALE:GREGORIAN
METHOD:PUBLISH
X-WR-CALNAME:Dolphin Shopping Centres
X-ORIGINAL-URL:https://dolphinshoppingcentre.co.uk
X-WR-CALDESC:Events for Dolphin Shopping Centres
REFRESH-INTERVAL;VALUE=DURATION:PT1H
X-Robots-Tag:noindex
X-PUBLISHED-TTL:PT1H
BEGIN:VTIMEZONE
TZID:UTC
BEGIN:STANDARD
TZOFFSETFROM:+0000
TZOFFSETTO:+0000
TZNAME:UTC
DTSTART:20240101T000000
END:STANDARD
END:VTIMEZONE
BEGIN:VEVENT
DTSTART;TZID=UTC:20250830T100000
DTEND;TZID=UTC:20250830T160000
DTSTAMP:20260421T230848
CREATED:20250823T125632Z
LAST-MODIFIED:20250823T125632Z
UID:10010013-1756548000-1756569600@dolphinshoppingcentre.co.uk
SUMMARY:Games at GATHER
DESCRIPTION:Explore Lucky Feat CIC’s extensive board game library\, including a wide range of family favourites and giant games. Stay and play for as long as you would like! \nFREE beginner-level RPG sessions will be held every day this week. The sessions are free to join\, but as spaces are limited\, we recommend booking your spot in advance to avoid disappointment. Book for one (or more!) tabletop RPG sessions here! \nAll ages and skill levels welcome.
URL:https://dolphinshoppingcentre.co.uk/event/games-at-gather-august-2025/2025-08-30/
LOCATION:GATHER\, Ground Floor\, The Dolphin\, Poole\, Dorset\, BH15 1SZ\, United Kingdom
CATEGORIES:Clubs & Groups,For Kids,GATHER,Workshop
ATTACH;FMTTYPE=image/webp:https://dolphinshoppingcentre.co.uk/wp-content/uploads/2025/08/GAMES-AT-Poster-A3-Portrait_20250727_205736_0000.webp
ORGANIZER;CN="Lucky Feat CIC":MAILTO:shop@luckyfeatdice.com
END:VEVENT
BEGIN:VEVENT
DTSTART;TZID=UTC:20250829T100000
DTEND;TZID=UTC:20250829T160000
DTSTAMP:20260421T230848
CREATED:20250823T125632Z
LAST-MODIFIED:20250823T125632Z
UID:10010012-1756461600-1756483200@dolphinshoppingcentre.co.uk
SUMMARY:Games at GATHER
DESCRIPTION:Explore Lucky Feat CIC’s extensive board game library\, including a wide range of family favourites and giant games. Stay and play for as long as you would like! \nFREE beginner-level RPG sessions will be held every day this week. The sessions are free to join\, but as spaces are limited\, we recommend booking your spot in advance to avoid disappointment. Book for one (or more!) tabletop RPG sessions here! \nAll ages and skill levels welcome.
URL:https://dolphinshoppingcentre.co.uk/event/games-at-gather-august-2025/2025-08-29/
LOCATION:GATHER\, Ground Floor\, The Dolphin\, Poole\, Dorset\, BH15 1SZ\, United Kingdom
CATEGORIES:Clubs & Groups,For Kids,GATHER,Workshop
ATTACH;FMTTYPE=image/webp:https://dolphinshoppingcentre.co.uk/wp-content/uploads/2025/08/GAMES-AT-Poster-A3-Portrait_20250727_205736_0000.webp
ORGANIZER;CN="Lucky Feat CIC":MAILTO:shop@luckyfeatdice.com
END:VEVENT
BEGIN:VEVENT
DTSTART;TZID=UTC:20250828T100000
DTEND;TZID=UTC:20250828T160000
DTSTAMP:20260421T230848
CREATED:20250823T125632Z
LAST-MODIFIED:20250823T125632Z
UID:10010011-1756375200-1756396800@dolphinshoppingcentre.co.uk
SUMMARY:Games at GATHER
DESCRIPTION:Explore Lucky Feat CIC’s extensive board game library\, including a wide range of family favourites and giant games. Stay and play for as long as you would like! \nFREE beginner-level RPG sessions will be held every day this week. The sessions are free to join\, but as spaces are limited\, we recommend booking your spot in advance to avoid disappointment. Book for one (or more!) tabletop RPG sessions here! \nAll ages and skill levels welcome.
URL:https://dolphinshoppingcentre.co.uk/event/games-at-gather-august-2025/2025-08-28/
LOCATION:GATHER\, Ground Floor\, The Dolphin\, Poole\, Dorset\, BH15 1SZ\, United Kingdom
CATEGORIES:Clubs & Groups,For Kids,GATHER,Workshop
ATTACH;FMTTYPE=image/webp:https://dolphinshoppingcentre.co.uk/wp-content/uploads/2025/08/GAMES-AT-Poster-A3-Portrait_20250727_205736_0000.webp
ORGANIZER;CN="Lucky Feat CIC":MAILTO:shop@luckyfeatdice.com
END:VEVENT
BEGIN:VEVENT
DTSTART;TZID=UTC:20250827T100000
DTEND;TZID=UTC:20250827T160000
DTSTAMP:20260421T230848
CREATED:20250823T125632Z
LAST-MODIFIED:20250823T125632Z
UID:10010010-1756288800-1756310400@dolphinshoppingcentre.co.uk
SUMMARY:Games at GATHER
DESCRIPTION:Explore Lucky Feat CIC’s extensive board game library\, including a wide range of family favourites and giant games. Stay and play for as long as you would like! \nFREE beginner-level RPG sessions will be held every day this week. The sessions are free to join\, but as spaces are limited\, we recommend booking your spot in advance to avoid disappointment. Book for one (or more!) tabletop RPG sessions here! \nAll ages and skill levels welcome.
URL:https://dolphinshoppingcentre.co.uk/event/games-at-gather-august-2025/2025-08-27/
LOCATION:GATHER\, Ground Floor\, The Dolphin\, Poole\, Dorset\, BH15 1SZ\, United Kingdom
CATEGORIES:Clubs & Groups,For Kids,GATHER,Workshop
ATTACH;FMTTYPE=image/webp:https://dolphinshoppingcentre.co.uk/wp-content/uploads/2025/08/GAMES-AT-Poster-A3-Portrait_20250727_205736_0000.webp
ORGANIZER;CN="Lucky Feat CIC":MAILTO:shop@luckyfeatdice.com
END:VEVENT
BEGIN:VEVENT
DTSTART;TZID=UTC:20250826T100000
DTEND;TZID=UTC:20250826T160000
DTSTAMP:20260421T230848
CREATED:20250823T125632Z
LAST-MODIFIED:20250823T125632Z
UID:10010009-1756202400-1756224000@dolphinshoppingcentre.co.uk
SUMMARY:Games at GATHER
DESCRIPTION:Explore Lucky Feat CIC’s extensive board game library\, including a wide range of family favourites and giant games. Stay and play for as long as you would like! \nFREE beginner-level RPG sessions will be held every day this week. The sessions are free to join\, but as spaces are limited\, we recommend booking your spot in advance to avoid disappointment. Book for one (or more!) tabletop RPG sessions here! \nAll ages and skill levels welcome.
URL:https://dolphinshoppingcentre.co.uk/event/games-at-gather-august-2025/2025-08-26/
LOCATION:GATHER\, Ground Floor\, The Dolphin\, Poole\, Dorset\, BH15 1SZ\, United Kingdom
CATEGORIES:Clubs & Groups,For Kids,GATHER,Workshop
ATTACH;FMTTYPE=image/webp:https://dolphinshoppingcentre.co.uk/wp-content/uploads/2025/08/GAMES-AT-Poster-A3-Portrait_20250727_205736_0000.webp
ORGANIZER;CN="Lucky Feat CIC":MAILTO:shop@luckyfeatdice.com
END:VEVENT
BEGIN:VEVENT
DTSTART;TZID=UTC:20250825T100000
DTEND;TZID=UTC:20250825T160000
DTSTAMP:20260421T230848
CREATED:20250823T125632Z
LAST-MODIFIED:20250823T125632Z
UID:10010008-1756116000-1756137600@dolphinshoppingcentre.co.uk
SUMMARY:Games at GATHER
DESCRIPTION:Explore Lucky Feat CIC’s extensive board game library\, including a wide range of family favourites and giant games. Stay and play for as long as you would like! \nFREE beginner-level RPG sessions will be held every day this week. The sessions are free to join\, but as spaces are limited\, we recommend booking your spot in advance to avoid disappointment. Book for one (or more!) tabletop RPG sessions here! \nAll ages and skill levels welcome.
URL:https://dolphinshoppingcentre.co.uk/event/games-at-gather-august-2025/2025-08-25/
LOCATION:GATHER\, Ground Floor\, The Dolphin\, Poole\, Dorset\, BH15 1SZ\, United Kingdom
CATEGORIES:Clubs & Groups,For Kids,GATHER,Workshop
ATTACH;FMTTYPE=image/webp:https://dolphinshoppingcentre.co.uk/wp-content/uploads/2025/08/GAMES-AT-Poster-A3-Portrait_20250727_205736_0000.webp
ORGANIZER;CN="Lucky Feat CIC":MAILTO:shop@luckyfeatdice.com
END:VEVENT
END:VCALENDAR