BEGIN:VCALENDAR
VERSION:2.0
PRODID:-//Dolphin Shopping Centres - ECPv6.15.20//NONSGML v1.0//EN
CALSCALE:GREGORIAN
METHOD:PUBLISH
X-ORIGINAL-URL:https://dolphinshoppingcentre.co.uk
X-WR-CALDESC:Events for Dolphin Shopping Centres
REFRESH-INTERVAL;VALUE=DURATION:PT1H
X-Robots-Tag:noindex
X-PUBLISHED-TTL:PT1H
BEGIN:VTIMEZONE
TZID:UTC
BEGIN:STANDARD
TZOFFSETFROM:+0000
TZOFFSETTO:+0000
TZNAME:UTC
DTSTART:20240101T000000
END:STANDARD
END:VTIMEZONE
BEGIN:VEVENT
DTSTART;TZID=UTC:20250803T093000
DTEND;TZID=UTC:20250803T170000
DTSTAMP:20260419T124728
CREATED:20250725T163241Z
LAST-MODIFIED:20250725T163444Z
UID:10010005-1754213400-1754240400@dolphinshoppingcentre.co.uk
SUMMARY:Summer Mini-Photoshoots with Hello You Studios
DESCRIPTION:Local photography studio Hello YOU Studios will be offering summer photoshoots with a variety of seasonal backdrops available. These short and sweet 10-minute sessions are perfect for busy families who want a quick update to their photo collection – whether it’s just the kids or the grown-ups too! \nChoose from a range of brand-new summer backdrops\, lovingly designed to bring a burst of joy and colour to your portraits. \nBooking is strongly advised. A £10 non-refundable deposit is required at the time of booking to secure your place. This covers the cost of one digital image and will be deducted from the cost of any package you choose on the day. \nBook your photoshoot here
URL:https://dolphinshoppingcentre.co.uk/event/summer-mini-photoshoots-with-hello-you-studios/2025-08-03/
LOCATION:GATHER\, Ground Floor\, The Dolphin\, Poole\, Dorset\, BH15 1SZ\, United Kingdom
CATEGORIES:GATHER,Workshop
ATTACH;FMTTYPE=image/webp:https://dolphinshoppingcentre.co.uk/wp-content/uploads/2025/07/522703328_1810170253185133_1388438271204445409_n.webp
ORGANIZER;CN="Hello YOU Studios":MAILTO:info@helloyoustudios.co.uk
END:VEVENT
BEGIN:VEVENT
DTSTART;TZID=UTC:20250802T093000
DTEND;TZID=UTC:20250802T170000
DTSTAMP:20260419T124728
CREATED:20250725T163241Z
LAST-MODIFIED:20250725T163444Z
UID:10010004-1754127000-1754154000@dolphinshoppingcentre.co.uk
SUMMARY:Summer Mini-Photoshoots with Hello You Studios
DESCRIPTION:Local photography studio Hello YOU Studios will be offering summer photoshoots with a variety of seasonal backdrops available. These short and sweet 10-minute sessions are perfect for busy families who want a quick update to their photo collection – whether it’s just the kids or the grown-ups too! \nChoose from a range of brand-new summer backdrops\, lovingly designed to bring a burst of joy and colour to your portraits. \nBooking is strongly advised. A £10 non-refundable deposit is required at the time of booking to secure your place. This covers the cost of one digital image and will be deducted from the cost of any package you choose on the day. \nBook your photoshoot here
URL:https://dolphinshoppingcentre.co.uk/event/summer-mini-photoshoots-with-hello-you-studios/2025-08-02/
LOCATION:GATHER\, Ground Floor\, The Dolphin\, Poole\, Dorset\, BH15 1SZ\, United Kingdom
CATEGORIES:GATHER,Workshop
ATTACH;FMTTYPE=image/webp:https://dolphinshoppingcentre.co.uk/wp-content/uploads/2025/07/522703328_1810170253185133_1388438271204445409_n.webp
ORGANIZER;CN="Hello YOU Studios":MAILTO:info@helloyoustudios.co.uk
END:VEVENT
BEGIN:VEVENT
DTSTART;TZID=UTC:20250801T093000
DTEND;TZID=UTC:20250801T170000
DTSTAMP:20260419T124728
CREATED:20250725T163241Z
LAST-MODIFIED:20250725T163444Z
UID:10010003-1754040600-1754067600@dolphinshoppingcentre.co.uk
SUMMARY:Summer Mini-Photoshoots with Hello You Studios
DESCRIPTION:Local photography studio Hello YOU Studios will be offering summer photoshoots with a variety of seasonal backdrops available. These short and sweet 10-minute sessions are perfect for busy families who want a quick update to their photo collection – whether it’s just the kids or the grown-ups too! \nChoose from a range of brand-new summer backdrops\, lovingly designed to bring a burst of joy and colour to your portraits. \nBooking is strongly advised. A £10 non-refundable deposit is required at the time of booking to secure your place. This covers the cost of one digital image and will be deducted from the cost of any package you choose on the day. \nBook your photoshoot here
URL:https://dolphinshoppingcentre.co.uk/event/summer-mini-photoshoots-with-hello-you-studios/2025-08-01/
LOCATION:GATHER\, Ground Floor\, The Dolphin\, Poole\, Dorset\, BH15 1SZ\, United Kingdom
CATEGORIES:GATHER,Workshop
ATTACH;FMTTYPE=image/webp:https://dolphinshoppingcentre.co.uk/wp-content/uploads/2025/07/522703328_1810170253185133_1388438271204445409_n.webp
ORGANIZER;CN="Hello YOU Studios":MAILTO:info@helloyoustudios.co.uk
END:VEVENT
BEGIN:VEVENT
DTSTART;TZID=UTC:20250413T090000
DTEND;TZID=UTC:20250413T163000
DTSTAMP:20260419T124728
CREATED:20250403T154214Z
LAST-MODIFIED:20250403T154653Z
UID:10009876-1744534800-1744561800@dolphinshoppingcentre.co.uk
SUMMARY:Easter Mini-Photoshoots with Hello You Studios
DESCRIPTION:Local photography studio Hello YOU Studios will be offering Easter photoshoots with a variety of Easter and spring-inspired backdrops available. \nThese 10 minute photoshoots are designed to give you a magical\, personalised experience that you’ll cherish for years to come! Whether you’re looking for family portraits\, individual shots\, or a fun couple’s session\, Hello You’s affordable pricing (from £15 to £149) makes it easy to create stunning memories without breaking the bank. \nBooking is strongly advised. A £15 non-refundable deposit is required at the time of booking to secure your place. This covers the cost of one digital image and will be deducted from the cost of any package you choose on the day. \nBook your photoshoot here! \n  \nPackage pricing: \n\n1 digital image – £15\n3 Digital images – £45\n5 Digital images – £59\n12/15 digital images – £79.95\nAll digital images min of 15 – £125\n\nBolt-on prints packages: \n\nAdd 4 7×5 prints – £29\nAdd 6 7×5 prints – £38\nAdd all matching prints 8 x 6 ( min 15 ) – £62\n\nProcessing time for the galleries is approximately 7-10 days following the shoot. Prints will be available for collection from Hello YOU’s studio in Wallisdown.
URL:https://dolphinshoppingcentre.co.uk/event/easter-mini-photoshoots-with-hello-you-studios/2025-04-13/
LOCATION:GATHER\, Ground Floor\, The Dolphin\, Poole\, Dorset\, BH15 1SZ\, United Kingdom
CATEGORIES:GATHER,Workshop
ATTACH;FMTTYPE=image/webp:https://dolphinshoppingcentre.co.uk/wp-content/uploads/2025/04/eastery-scaled-1.webp
ORGANIZER;CN="Hello YOU Studios":MAILTO:info@helloyoustudios.co.uk
END:VEVENT
BEGIN:VEVENT
DTSTART;TZID=UTC:20250412T090000
DTEND;TZID=UTC:20250412T163000
DTSTAMP:20260419T124728
CREATED:20250403T154214Z
LAST-MODIFIED:20250403T154653Z
UID:10009875-1744448400-1744475400@dolphinshoppingcentre.co.uk
SUMMARY:Easter Mini-Photoshoots with Hello You Studios
DESCRIPTION:Local photography studio Hello YOU Studios will be offering Easter photoshoots with a variety of Easter and spring-inspired backdrops available. \nThese 10 minute photoshoots are designed to give you a magical\, personalised experience that you’ll cherish for years to come! Whether you’re looking for family portraits\, individual shots\, or a fun couple’s session\, Hello You’s affordable pricing (from £15 to £149) makes it easy to create stunning memories without breaking the bank. \nBooking is strongly advised. A £15 non-refundable deposit is required at the time of booking to secure your place. This covers the cost of one digital image and will be deducted from the cost of any package you choose on the day. \nBook your photoshoot here! \n  \nPackage pricing: \n\n1 digital image – £15\n3 Digital images – £45\n5 Digital images – £59\n12/15 digital images – £79.95\nAll digital images min of 15 – £125\n\nBolt-on prints packages: \n\nAdd 4 7×5 prints – £29\nAdd 6 7×5 prints – £38\nAdd all matching prints 8 x 6 ( min 15 ) – £62\n\nProcessing time for the galleries is approximately 7-10 days following the shoot. Prints will be available for collection from Hello YOU’s studio in Wallisdown.
URL:https://dolphinshoppingcentre.co.uk/event/easter-mini-photoshoots-with-hello-you-studios/2025-04-12/
LOCATION:GATHER\, Ground Floor\, The Dolphin\, Poole\, Dorset\, BH15 1SZ\, United Kingdom
CATEGORIES:GATHER,Workshop
ATTACH;FMTTYPE=image/webp:https://dolphinshoppingcentre.co.uk/wp-content/uploads/2025/04/eastery-scaled-1.webp
ORGANIZER;CN="Hello YOU Studios":MAILTO:info@helloyoustudios.co.uk
END:VEVENT
BEGIN:VEVENT
DTSTART;TZID=UTC:20250411T090000
DTEND;TZID=UTC:20250411T163000
DTSTAMP:20260419T124728
CREATED:20250403T154214Z
LAST-MODIFIED:20250403T154653Z
UID:10009877-1744362000-1744389000@dolphinshoppingcentre.co.uk
SUMMARY:Easter Mini-Photoshoots with Hello You Studios
DESCRIPTION:Local photography studio Hello YOU Studios will be offering Easter photoshoots with a variety of Easter and spring-inspired backdrops available. \nThese 10 minute photoshoots are designed to give you a magical\, personalised experience that you’ll cherish for years to come! Whether you’re looking for family portraits\, individual shots\, or a fun couple’s session\, Hello You’s affordable pricing (from £15 to £149) makes it easy to create stunning memories without breaking the bank. \nBooking is strongly advised. A £15 non-refundable deposit is required at the time of booking to secure your place. This covers the cost of one digital image and will be deducted from the cost of any package you choose on the day. \nBook your photoshoot here! \n  \nPackage pricing: \n\n1 digital image – £15\n3 Digital images – £45\n5 Digital images – £59\n12/15 digital images – £79.95\nAll digital images min of 15 – £125\n\nBolt-on prints packages: \n\nAdd 4 7×5 prints – £29\nAdd 6 7×5 prints – £38\nAdd all matching prints 8 x 6 ( min 15 ) – £62\n\nProcessing time for the galleries is approximately 7-10 days following the shoot. Prints will be available for collection from Hello YOU’s studio in Wallisdown.
URL:https://dolphinshoppingcentre.co.uk/event/easter-mini-photoshoots-with-hello-you-studios/2025-04-11/
LOCATION:GATHER\, Ground Floor\, The Dolphin\, Poole\, Dorset\, BH15 1SZ\, United Kingdom
CATEGORIES:GATHER,Workshop
ATTACH;FMTTYPE=image/webp:https://dolphinshoppingcentre.co.uk/wp-content/uploads/2025/04/eastery-scaled-1.webp
ORGANIZER;CN="Hello YOU Studios":MAILTO:info@helloyoustudios.co.uk
END:VEVENT
BEGIN:VEVENT
DTSTART;TZID=UTC:20250209T090000
DTEND;TZID=UTC:20250209T170000
DTSTAMP:20260419T124728
CREATED:20250130T175300Z
LAST-MODIFIED:20250130T175300Z
UID:10009397-1739091600-1739120400@dolphinshoppingcentre.co.uk
SUMMARY:Valentine's Family Portraits with Hello YOU Studios
DESCRIPTION:Capture precious family memories with a Valentines-themed family portrait session with Hello YOU Studios! \nEach session last 25 minutes\, which means you’ll have plenty of time to try out a variety of poses\, outfit changes\, and backdrop options. A small selection client wardrobe will be available for women and children available on the day. \nPortrait sessions are free to book – just pay for the images you love most! \nAs spaces are limited\, we recommend booking your preferred time via the below link to avoid disappointment. \n 
URL:https://dolphinshoppingcentre.co.uk/event/valentines-family-portraits-with-hello-you-studios/
LOCATION:GATHER\, Ground Floor\, The Dolphin\, Poole\, Dorset\, BH15 1SZ\, United Kingdom
CATEGORIES:Experiences,GATHER
ATTACH;FMTTYPE=image/webp:https://dolphinshoppingcentre.co.uk/wp-content/uploads/2025/01/36dedf1ccb107dbb1fc6df7688dd6178f9ef52dfe930c5405917d25b9bf4a336-scaled.webp
ORGANIZER;CN="Hello YOU Studios":MAILTO:info@helloyoustudios.co.uk
END:VEVENT
BEGIN:VEVENT
DTSTART;TZID=UTC:20250208T090000
DTEND;TZID=UTC:20250208T170000
DTSTAMP:20260419T124728
CREATED:20250129T112849Z
LAST-MODIFIED:20250129T115056Z
UID:10009396-1739005200-1739034000@dolphinshoppingcentre.co.uk
SUMMARY:Valentine's Day Mini-Photoshoot
DESCRIPTION:This Valentine’s Day\, celebrate your love story with a personalised photoshoot that will last a lifetime. \nWhether it’s a romantic couples session\, a fun and flirty shoot\, or capturing sweet family moments—your love deserves to be remembered in the most beautiful way. \n  \n📸 Why book a Valentine’s photoshoot? \n✨ Timeless memories of your special connection \n✨ Perfect gift for your partner or yourself! \n✨ Professional images for cards\, frames\, and social media \n✨ A fun and unique way to celebrate love \n  \nEnjoy a complimentary 10-minute photo session – just pay for the images you like best! \nSpaces are limited\, so please book your shoot via the link below to avoid disappointment.
URL:https://dolphinshoppingcentre.co.uk/event/valentines-day-mini-photoshoot-2025/2025-02-08/
LOCATION:GATHER\, Ground Floor\, The Dolphin\, Poole\, Dorset\, BH15 1SZ\, United Kingdom
CATEGORIES:Experiences,GATHER
ATTACH;FMTTYPE=image/webp:https://dolphinshoppingcentre.co.uk/wp-content/uploads/2025/01/475104259_1657282875140539_6520987782472311168_n.webp
ORGANIZER;CN="Hello YOU Studios":MAILTO:info@helloyoustudios.co.uk
END:VEVENT
BEGIN:VEVENT
DTSTART;TZID=UTC:20250207T090000
DTEND;TZID=UTC:20250207T170000
DTSTAMP:20260419T124728
CREATED:20250129T112849Z
LAST-MODIFIED:20250129T115056Z
UID:10009395-1738918800-1738947600@dolphinshoppingcentre.co.uk
SUMMARY:Valentine's Day Mini-Photoshoot
DESCRIPTION:This Valentine’s Day\, celebrate your love story with a personalised photoshoot that will last a lifetime. \nWhether it’s a romantic couples session\, a fun and flirty shoot\, or capturing sweet family moments—your love deserves to be remembered in the most beautiful way. \n  \n📸 Why book a Valentine’s photoshoot? \n✨ Timeless memories of your special connection \n✨ Perfect gift for your partner or yourself! \n✨ Professional images for cards\, frames\, and social media \n✨ A fun and unique way to celebrate love \n  \nEnjoy a complimentary 10-minute photo session – just pay for the images you like best! \nSpaces are limited\, so please book your shoot via the link below to avoid disappointment.
URL:https://dolphinshoppingcentre.co.uk/event/valentines-day-mini-photoshoot-2025/2025-02-07/
LOCATION:GATHER\, Ground Floor\, The Dolphin\, Poole\, Dorset\, BH15 1SZ\, United Kingdom
CATEGORIES:Experiences,GATHER
ATTACH;FMTTYPE=image/webp:https://dolphinshoppingcentre.co.uk/wp-content/uploads/2025/01/475104259_1657282875140539_6520987782472311168_n.webp
ORGANIZER;CN="Hello YOU Studios":MAILTO:info@helloyoustudios.co.uk
END:VEVENT
END:VCALENDAR